BEGIN:VCALENDAR
VERSION:2.0
PRODID:-//ChamberMaster//Event Calendar 2.0//EN
METHOD:PUBLISH
X-PUBLISHED-TTL:P3D
REFRESH-INTERVAL:P3D
CALSCALE:GREGORIAN
BEGIN:VEVENT
DTSTART:20240720T220000Z
DTEND:20240721T000000Z
X-MICROSOFT-CDO-ALLDAYEVENT:FALSE
SUMMARY:Youth Pump Track Competition
DESCRIPTION:Kids up to 15 years old are eligible to participate!\n\nCategories are kids under 6\, ages 7-9\, 10-12\, and 13-15.\n\nThere will be a timed race for each category as well as a free style round.\n\nParticipants will be given time to practice on the track before the competition.\n\n$10 entrance fee (but if you are unable to pay please let us know and we can work with you).\n\nWaivers must be signed online or in person at the event before participating.\n\nPrizes will be awarded to the 1st place winners of each category.\n\nEveryone is encouraged to bring their own bike (or other equipment) and a helmet. Helmets must be worn during the competition. If any child wants to participate but is unable because they are lacking equipment\, please indicate that in the online registration and we may be able to work with you.
X-ALT-DESC;FMTTYPE=text/html:<div class="x11i5rnm xat24cr x1mh8g0r x1vvkbs xtlvy1s" style="margin: 0.5em 0px 0px\; overflow-wrap: break-word\; font-family: &quot\;Segoe UI Historic&quot\;\, &quot\;Segoe UI&quot\;\, Helvetica\, Arial\, sans-serif\; color: rgb(5\, 5\, 5)\; font-size: 18.75px\;">Kids up to 15 years old are eligible to participate!<br class="html-br" />\nCategories are kids under 6\, ages 7-9\, 10-12\, and 13-15.<br class="html-br" />\nThere will be a timed race for each category as well as a free style round.<br class="html-br" />\nParticipants will be given time to practice on the track before the competition.<br class="html-br" />\n$10 entrance fee (but if you are unable to pay please let us know and we can work with you).</div>\n\n<div class="x11i5rnm xat24cr x1mh8g0r x1vvkbs xtlvy1s" style="margin: 0.5em 0px 0px\; overflow-wrap: break-word\; font-family: &quot\;Segoe UI Historic&quot\;\, &quot\;Segoe UI&quot\;\, Helvetica\, Arial\, sans-serif\; color: rgb(5\, 5\, 5)\; font-size: 18.75px\;">Waivers must be signed online or in person at the event before participating.<br class="html-br" />\nPrizes will be awarded to the 1st place winners of each category.<br class="html-br" />\nEveryone is encouraged to bring their own bike (or other equipment) and a helmet. Helmets must be worn during the competition. If any child wants to participate but is unable because they are lacking equipment\, please indicate that in the online registration and we may be able to work with you.<br />\n&nbsp\;</div>\n
LOCATION:Fayetteville Town Park
UID:e.1703.14656
SEQUENCE:3
DTSTAMP:20260419T133845Z
URL:https://business.fayettecounty.com/events/details/youth-pump-track-competition-14656
END:VEVENT

END:VCALENDAR
