BEGIN:VCALENDAR
VERSION:2.0
PRODID:-//ChamberMaster//Event Calendar 2.0//EN
METHOD:PUBLISH
X-PUBLISHED-TTL:P3D
REFRESH-INTERVAL:P3D
CALSCALE:GREGORIAN
BEGIN:VEVENT
DTSTART:20260429T153000Z
DTEND:20260429T153000Z
X-MICROSOFT-CDO-ALLDAYEVENT:FALSE
SUMMARY:Workforce Unifiers Luncheon
DESCRIPTION:Leaders will gather to discuss challenges and solutions to workforce development and participation.
X-ALT-DESC;FMTTYPE=text/html:Leaders will gather to discuss challenges and solutions to workforce development and participation.
LOCATION:Fayette County Health Department 5495 Maple Lane Fayetteville\, WV
UID:e.1703.15853
SEQUENCE:3
DTSTAMP:20260420T205031Z
URL:https://business.fayettecounty.com/events/details/workforce-unifiers-luncheon-15853
END:VEVENT

END:VCALENDAR
