BEGIN:VCALENDAR
VERSION:2.0
PRODID:-//ChamberMaster//Event Calendar 2.0//EN
METHOD:PUBLISH
X-PUBLISHED-TTL:P3D
REFRESH-INTERVAL:P3D
CALSCALE:GREGORIAN
BEGIN:VEVENT
DTSTART:20260313T230000Z
DTEND:20260314T010000Z
X-MICROSOFT-CDO-ALLDAYEVENT:FALSE
SUMMARY:Wild\, Wild\, Wildest West
DESCRIPTION:Get your tickets TODAY at fayettetheater.com!\n\nWild\, Wild\, Wildest West\n\nMarch 13\, 14\, 20\, 21\, 27 & 28 at 7pm\n\nMarch 21 & 29 at 2pm\n\nThis spirited musical spoof brings together a yodeling sister\, a bumbling deputy\, and the stalwart Sheriff Wayne John for a hilarious showdown against a cast of colorful outlaws. From rockabilly rhythms to bluegrass beats\, the music drives a fast-paced story packed with classic frontier tropes and slapstick wit. With the inept Deputy Doowrong constantly tripping over his own spurs and a narrator trying to keep the chaos in check\, it's a rowdy\, high-stakes romp.
X-ALT-DESC;FMTTYPE=text/html:Get your tickets TODAY at fayettetheater.com!<br />\nWild\, Wild\, Wildest West<br />\nMarch 13\, 14\, 20\, 21\, 27 &amp\; 28 at 7pm<br />\nMarch 21 &amp\; 29 at 2pm<br />\nThis spirited musical spoof brings together a yodeling sister\, a bumbling deputy\, and the stalwart Sheriff Wayne John for a hilarious showdown against a cast of colorful outlaws. From rockabilly rhythms to bluegrass beats\, the music drives a fast-paced story packed with classic frontier tropes and slapstick wit. With the inept Deputy Doowrong constantly tripping over his own spurs and a narrator trying to keep the chaos in check\, it&rsquo\;s a rowdy\, high-stakes romp.
LOCATION:Historic Fayette Theater 115 S Court St\, Fayetteville\, WV 25840
UID:e.1703.15733
SEQUENCE:3
DTSTAMP:20260420T163120Z
URL:https://business.fayettecounty.com/events/details/wild-wild-wildest-west-15733
END:VEVENT

END:VCALENDAR
