BEGIN:VCALENDAR
VERSION:2.0
PRODID:-//ChamberMaster//Event Calendar 2.0//EN
METHOD:PUBLISH
X-PUBLISHED-TTL:P3D
REFRESH-INTERVAL:P3D
CALSCALE:GREGORIAN
BEGIN:VEVENT
DTSTART:20240207T210000Z
DTEND:20240208T030000Z
X-MICROSOFT-CDO-ALLDAYEVENT:FALSE
SUMMARY:Wednesdays at The Gaines Estate
DESCRIPTION:Wednesdays at The Gaines Estate continue in February 2024! Celebrate the midweek with us. Delicious food\, handcrafted cocktails\, and live music. Lounge opens at 4pm. Music starts at 6pm. The kitchen closes at 9pm.\n\n \n\n	Feb. 7   Ken Kruger\n	Feb. 14 - Brittany McGuire & Jeremiah Hatfield
X-ALT-DESC;FMTTYPE=text/html:<span style="color:rgb(5\, 5\, 5)\; font-family:segoe ui historic\,segoe ui\,helvetica\,arial\,sans-serif\; font-size:15px">Wednesdays at The Gaines Estate continue in February 2024! Celebrate the midweek with us. Delicious food\, handcrafted cocktails\, and live music.&nbsp\;Lounge opens at 4pm. Music starts at 6pm.&nbsp\;</span><span style="font-size:16px">The kitchen closes at 9pm.</span><br />\n&nbsp\;\n<ul>\n	<li><span style="font-size:12pt">Feb. 7 &ndash\; Ken Kruger</span></li>\n	<li><span style="font-size:12pt">Feb. 14 - Brittany McGuire &amp\; Jeremiah Hatfield</span></li>\n</ul>\n<span style="color:rgb(5\, 5\, 5)\; font-family:segoe ui historic\,segoe ui\,helvetica\,arial\,sans-serif\; font-size:15px"> </span>
LOCATION:The Gaines Estate 225 W. Maple Ave. Fayetteville\, WV 25840
UID:e.1703.14515
SEQUENCE:3
DTSTAMP:20260420T025954Z
URL:https://business.fayettecounty.com/events/details/wednesdays-at-the-gaines-estate-02-07-2024-14515
END:VEVENT

END:VCALENDAR
