BEGIN:VCALENDAR
VERSION:2.0
PRODID:-//ChamberMaster//Event Calendar 2.0//EN
METHOD:PUBLISH
X-PUBLISHED-TTL:P3D
REFRESH-INTERVAL:P3D
CALSCALE:GREGORIAN
BEGIN:VEVENT
DTSTART:20240131T210000Z
DTEND:20240201T030000Z
X-MICROSOFT-CDO-ALLDAYEVENT:FALSE
SUMMARY:Wednesdays at The Gaines Estate
DESCRIPTION:Wednesdays at The Gaines Estate returns January 2024! Make your New Year's resolution to celebrate the midweek with us. Delicious food\, handcrafted cocktails\, and live music. Lounge opens at 4pm. Music starts at 6pm.
X-ALT-DESC;FMTTYPE=text/html:<span style="color:rgb(5\, 5\, 5)\; font-family:segoe ui historic\,segoe ui\,helvetica\,arial\,sans-serif\; font-size:15px">Wednesdays at The Gaines Estate returns January 2024! Make your New Year&#39\;s resolution to celebrate the midweek with us. Delicious food\, handcrafted cocktails\, and live music.&nbsp\;Lounge opens at 4pm. Music starts at 6pm. </span>
LOCATION:The Gaines Estate 225 W. Maple Ave. Fayetteville\, WV 25840
UID:e.1703.14495
SEQUENCE:3
DTSTAMP:20260420T051607Z
URL:https://business.fayettecounty.com/events/details/wednesdays-at-the-gaines-estate-01-31-2024-14495
END:VEVENT

END:VCALENDAR
