BEGIN:VCALENDAR
VERSION:2.0
PRODID:-//ChamberMaster//Event Calendar 2.0//EN
METHOD:PUBLISH
X-PUBLISHED-TTL:P3D
REFRESH-INTERVAL:P3D
CALSCALE:GREGORIAN
BEGIN:VEVENT
DTSTART:20250715T230000Z
DTEND:20250716T010000Z
X-MICROSOFT-CDO-ALLDAYEVENT:FALSE
SUMMARY:Tuesday Night Trivia - Nickelodeon
DESCRIPTION:Join us for Tuesday Night Trivia at the Lost Paddle Bar & Grill!\n\nTrivia starts at 7PM and the theme for July 15th\, 2025 is Nickelodeon!\n\nThe Lost Paddle will be offering $14 All You Can Eat Tacos and the winning team gets a prize!\n\nThis trivia theme will test what you know about Nickelodeon TV shows\, characters\, and more!\n\nWe hope to see you at the Lost Paddle for trivia\, tacos\, and fun!
X-ALT-DESC;FMTTYPE=text/html:<div class="xdj266r x14z9mp xat24cr x1lziwak x1vvkbs" style="margin: 0px\; overflow-wrap: break-word\; font-family: &quot\;Segoe UI Historic&quot\;\, &quot\;Segoe UI&quot\;\, Helvetica\, Arial\, sans-serif\; color: rgb(8\, 8\, 9)\; font-size: 15px\;">Join us for Tuesday Night Trivia at the Lost Paddle Bar &amp\; Grill!</div>\n\n<div class="x14z9mp xat24cr x1lziwak x1vvkbs xtlvy1s" style="margin: 0.5em 0px 0px\; overflow-wrap: break-word\; font-family: &quot\;Segoe UI Historic&quot\;\, &quot\;Segoe UI&quot\;\, Helvetica\, Arial\, sans-serif\; color: rgb(8\, 8\, 9)\; font-size: 15px\;">Trivia starts at 7PM and the theme for July 15th\, 2025 is Nickelodeon!</div>\n\n<div class="x14z9mp xat24cr x1lziwak x1vvkbs xtlvy1s" style="margin: 0.5em 0px 0px\; overflow-wrap: break-word\; font-family: &quot\;Segoe UI Historic&quot\;\, &quot\;Segoe UI&quot\;\, Helvetica\, Arial\, sans-serif\; color: rgb(8\, 8\, 9)\; font-size: 15px\;">The Lost Paddle will be offering $14 All You Can Eat Tacos and the winning team gets a prize!</div>\n\n<div class="x14z9mp xat24cr x1lziwak x1vvkbs xtlvy1s" style="margin: 0.5em 0px 0px\; overflow-wrap: break-word\; font-family: &quot\;Segoe UI Historic&quot\;\, &quot\;Segoe UI&quot\;\, Helvetica\, Arial\, sans-serif\; color: rgb(8\, 8\, 9)\; font-size: 15px\;">This trivia theme will test what you know about Nickelodeon TV shows\, characters\, and more!</div>\n\n<div class="x14z9mp xat24cr x1lziwak x1vvkbs xtlvy1s" style="margin: 0.5em 0px 0px\; overflow-wrap: break-word\; font-family: &quot\;Segoe UI Historic&quot\;\, &quot\;Segoe UI&quot\;\, Helvetica\, Arial\, sans-serif\; color: rgb(8\, 8\, 9)\; font-size: 15px\;">We hope to see you at the Lost Paddle for trivia\, tacos\, and fun!</div>\n
LOCATION:The Lost Paddle 1 Concho Rd Oak Hill\, WV 25901
UID:e.1703.15002
SEQUENCE:3
DTSTAMP:20260420T044627Z
URL:https://business.fayettecounty.com/events/details/tuesday-night-trivia-nickelodeon-15002
END:VEVENT

END:VCALENDAR
