BEGIN:VCALENDAR
VERSION:2.0
PRODID:-//ChamberMaster//Event Calendar 2.0//EN
METHOD:PUBLISH
X-PUBLISHED-TTL:P3D
REFRESH-INTERVAL:P3D
CALSCALE:GREGORIAN
BEGIN:VEVENT
DTSTART:20260628T120000Z
DTEND:20260628T210000Z
X-MICROSOFT-CDO-ALLDAYEVENT:FALSE
SUMMARY:Thurmond Triathlon
DESCRIPTION:Join Active Southern WV for the Thurmond Triathlon\, a beginner-friendly event in the heart of historic Thurmond! Immerse yourself in the rich history and breathtaking scenery while biking\, paddling\, and running through one of the most iconic spots in West Virginia.
X-ALT-DESC;FMTTYPE=text/html:Join Active Southern WV for the Thurmond Triathlon\, a beginner-friendly event in the heart of historic Thurmond! Immerse yourself in the rich history and breathtaking scenery while biking\, paddling\, and running through one of the most iconic spots in West Virginia.
LOCATION:Thurmond\, WV Thurmond\, WV 25901
UID:e.1703.15424
SEQUENCE:3
DTSTAMP:20260419T133802Z
URL:https://business.fayettecounty.com/events/details/thurmond-triathlon-15424
END:VEVENT

END:VCALENDAR
