BEGIN:VCALENDAR
VERSION:2.0
PRODID:-//ChamberMaster//Event Calendar 2.0//EN
METHOD:PUBLISH
X-PUBLISHED-TTL:P3D
REFRESH-INTERVAL:P3D
CALSCALE:GREGORIAN
BEGIN:VEVENT
DTSTART:20240809T210000Z
DTEND:20240810T010000Z
X-MICROSOFT-CDO-ALLDAYEVENT:FALSE
SUMMARY:Thrive Fest
DESCRIPTION:Nurturing minds and building resilience!\n\nFree giveaways\, haircuts and more!\n\nGames\, Food Trucks\, & Music
X-ALT-DESC;FMTTYPE=text/html:Nurturing minds and building resilience!<br />\nFree giveaways\, haircuts and more!<br />\nGames\, Food Trucks\, &amp\; Music<br />\n&nbsp\;
LOCATION:Lively Ampitheater Oak Hill\, West Virginia
UID:e.1703.14669
SEQUENCE:3
DTSTAMP:20260419T152738Z
URL:https://business.fayettecounty.com/events/details/thrive-fest-14669
END:VEVENT

END:VCALENDAR
