BEGIN:VCALENDAR
VERSION:2.0
PRODID:-//ChamberMaster//Event Calendar 2.0//EN
METHOD:PUBLISH
X-PUBLISHED-TTL:P3D
REFRESH-INTERVAL:P3D
CALSCALE:GREGORIAN
BEGIN:VEVENT
DTSTART:20240324T230000Z
DTEND:20240325T000000Z
X-MICROSOFT-CDO-ALLDAYEVENT:FALSE
SUMMARY:The Living Stations in Silhouette at Saints Peter and Paul Catholic Church
DESCRIPTION:The Catholic Youth Group of Saints Peter and Paul Catholic Church Presents\n\nThe Living Stations of the Cross In Silhouette \n\n\n\nPalm Sunday March 24 at 7:00 PM\n\nGood Friday March 29 at 2:00 PM
X-ALT-DESC;FMTTYPE=text/html:The Catholic Youth Group of Saints Peter and Paul Catholic Church Presents<br />\nThe Living Stations of the Cross In Silhouette&nbsp\;<br />\n<br />\nPalm Sunday March 24 at 7:00 PM<br />\nGood Friday March 29 at 2:00 PM<br />\n&nbsp\;
LOCATION:Saints Peter and Paul Catholic Church Oak Hill\, West Virginia
UID:e.1703.14567
SEQUENCE:3
DTSTAMP:20260419T232058Z
URL:https://business.fayettecounty.com/events/details/the-living-stations-in-silhouette-at-saints-peter-and-paul-catholic-church-14567
END:VEVENT

END:VCALENDAR
