BEGIN:VCALENDAR
VERSION:2.0
PRODID:-//ChamberMaster//Event Calendar 2.0//EN
METHOD:PUBLISH
X-PUBLISHED-TTL:P3D
REFRESH-INTERVAL:P3D
CALSCALE:GREGORIAN
BEGIN:VEVENT
DTSTART:20250809T210000Z
DTEND:20250810T010000Z
X-MICROSOFT-CDO-ALLDAYEVENT:FALSE
SUMMARY:The Land of Oz Gala 2025
DESCRIPTION:Purchase tickets ($65 ea.) by July 12th for early bird ticket discount. Regular ticket price is $75 ea. Join us at the historic Gaines Estate for a silent auction\, raffles\, door prizes\, and music. Dress in costume\, formal attire\, or casual. The theater needs to raise $124\,000 to match a federal grant. All proceeds will go towards matching that grant for renovations and upgrades to the theater building. Must be 13 and older to attend.
X-ALT-DESC;FMTTYPE=text/html:<span style="color: rgb(8\, 8\, 9)\; font-family: &quot\;Segoe UI Historic&quot\;\, &quot\;Segoe UI&quot\;\, Helvetica\, Arial\, sans-serif\; font-size: 15px\;">Purchase tickets ($65 ea.) by July 12th for early bird ticket discount. Regular ticket price is $75 ea. Join us at the historic Gaines Estate for a silent auction\, raffles\, door prizes\, and music. Dress in costume\, formal attire\, or casual. The theater needs to raise $124\,000 to match a federal grant. All proceeds will go towards matching that grant for renovations and upgrades to the theater building. Must be 13 and older to attend.</span>
LOCATION:The Gaines Estate Maple Ave Fayetteville\, WV 25840
UID:e.1703.14835
SEQUENCE:3
DTSTAMP:20260420T051443Z
URL:https://business.fayettecounty.com/events/details/the-land-of-oz-gala-2025-14835
END:VEVENT

END:VCALENDAR
