BEGIN:VCALENDAR
VERSION:2.0
PRODID:-//ChamberMaster//Event Calendar 2.0//EN
METHOD:PUBLISH
X-PUBLISHED-TTL:P3D
REFRESH-INTERVAL:P3D
CALSCALE:GREGORIAN
BEGIN:VEVENT
DTSTART:20250823T160000Z
DTEND:20250823T220000Z
X-MICROSOFT-CDO-ALLDAYEVENT:FALSE
SUMMARY:The Fall Fest Market 2025
DESCRIPTION:Join us here at the New River Convention Center for a FREE vendor event! Come by for a day of fun on August 23 from 12 pm- 6pm. There will be vendors\, food trucks\, music\, and more! If you are looking to become a vendor\, please email media@newriverconventioncenter.com or see our vendor link: https://form.jotform.com/251333499067059\n\nIf you have more questions or any comments\, feel free to leave a comment\, post\, or email us at the email listed above.
X-ALT-DESC;FMTTYPE=text/html:<div class="xdj266r x14z9mp xat24cr x1lziwak x1vvkbs" style="margin: 0px\; overflow-wrap: break-word\; font-family: &quot\;Segoe UI Historic&quot\;\, &quot\;Segoe UI&quot\;\, Helvetica\, Arial\, sans-serif\; color: rgb(8\, 8\, 9)\; font-size: 15px\;">Join us here at the New River Convention Center for a FREE vendor event! Come by for a day of fun on August 23 from 12 pm- 6pm. There will be vendors\, food trucks\, music\, and more! If you are looking to become a vendor\, please email media@newriverconventioncenter.com or see our vendor link:&nbsp\;<a attributionsrc="/privacy_sandbox/comet/register/source/?xt=AZUerKq1HEOhp1X4E2G-_TF-NxMkO8Hi27cmyzPzqfEzIbXxfOGoShvcwqL75FRdZGngSxStvD1eSf_2W0cbwBGXixbcciS7LASJD9wDX_aEB_mGf1UdiYAx2A1vSJUJWXE9t_ma9Tu76rkKrgBck79m2NhLlbEYxqlL--Nw-diOS5PHjCa_HtPop4M1oRhVIAI4iDE-BhUqD9wy9ctCH9adilcHFPsh6U057qDATp7-lLakJDy36ZqHjm37-mRs-Bp-hhb-2Rv54Xu2BYsjFgCg69dlQJe3GvY3aIUc0zAfEQu5Ky9_v_5eOZ6Ub9Y8ERg8FeRu9k_-UGDJd50LUEfoz0AiqEbSHjuurWn6rrv9ubkGCBJlrkTbx3x1BhM12kxBkNL9VSSB3uNiH68YhNNw2qxnF9ttfcxdy1ueFPEQQIpnbJyNlOpZQ_YL-HtIXFiS_bI4PgK55lGeIw9cLBC_TvhpynH1IgAo4oEBk8uzg2XMEWcJgrGcZy-DZfaKhb-H3GlPvgLmmfrBKqh7MBWHDdICiYt3H6hpH6NNNaFzlWbtqrNKwH-IiYUhFfe1Y2w7ySBXz8Jbpcx40MNB93Ni1i9g93GK8wI2V-3fzpL07v006QPFRD9NFIpXAcvotgkMsIMEsbgbR_3UBLYNOrZ1G5aQbWylye-Ojau73GgPeOnQ1PR2qXXAtPKnDatmsE7FoykD449sOriMIdRJeiMd35z2gyQ-xDB3zhQ_ru5zbU210Ut6d-siW2z0ooCqwC2_RclPFqyidRlvXl8bXsFALawDyTmuj4N9Cic2TQ9YKTzvxpVHmPzFUwlurv7K9QBHudlo3VWG20JghnIQzivpficQkWLg9XeeiddG_K7yXg" class="x1i10hfl xjbqb8w x1ejq31n x18oe1m7 x1sy0etr xstzfhl x972fbf x10w94by x1qhh985 x14e42zd x9f619 x1ypdohk xt0psk2 xe8uvvx xdj266r x14z9mp xat24cr x1lziwak xexx8yu xyri2b x18d9i69 x1c1uobl x16tdsg8 x1hl2dhg xggy1nq x1a2a7pz xkrqix3 x1sur9pj x1fey0fg x1s688f" href="https://l.facebook.com/l.php?u=https%3A%2F%2Fform.jotform.com%2F251333499067059%3Ffbclid%3DIwZXh0bgNhZW0CMTAAYnJpZBExbHZpaTVzTnpoUHl4ZkQ3VwEe7joasAAoW7t2R4ndB-3XOx8iIXARQfG9u7TnKSql6tLJKKYAWksjTycuIgI_aem_j1yN1XbALe7O5XPqlQRCZw&amp\;h=AT364pO1JUTRD5uK2S3YajRo4RwxLmLcoL3K0mTY_vKiZbKE_H8GTFRyP8rP-d8rIaQ9SjvkBaau4g-d9s-I6e7pJYzTCA1RLTXUwlu0hqg3GTy0M5JgRnGGlKkDHNZVoVmZDyi3UOmyrw&amp\;__tn__=q&amp\;c[0]=AT3GxelaL976cHBIsGVSE3ZkdO4pWQtdeaVRdv0ORZcHbiIipZb2yvFThNYJ-D7PTAEY81MMXza9tQQpdPfqcQCF5v6CgmnYZIzpF9j9a8zT6PO2baajzxUTtz48TlHVOSKiSWsOJiuJh9mBjZWX4ji6JC2M11hv3ks" rel="nofollow" role="link" style="color: rgb(0\, 100\, 209)\; cursor: pointer\; text-decoration-line: none\; list-style: none\; border-width: 0px\; margin: 0px\; text-align: inherit\; border-style: none\; padding: 0px\; box-sizing: border-box\; background-color: transparent\; outline: none\; -webkit-tap-highlight-color: transparent\; font-weight: 600\; touch-action: manipulation\; display: inline\; font-family: inherit\;" tabindex="0" target="_blank">https://form.jotform.com/251333499067059</a></div>\n\n<div class="x14z9mp xat24cr x1lziwak x1vvkbs xtlvy1s" style="margin: 0.5em 0px 0px\; overflow-wrap: break-word\; font-family: &quot\;Segoe UI Historic&quot\;\, &quot\;Segoe UI&quot\;\, Helvetica\, Arial\, sans-serif\; color: rgb(8\, 8\, 9)\; font-size: 15px\;">If you have more questions or any comments\, feel free to leave a comment\, post\, or email us at the email listed above.</div>\n
LOCATION:New River Convention Center 497 Mall Rd Oak Hill\, WV 25901
UID:e.1703.15018
SEQUENCE:3
DTSTAMP:20260420T044751Z
URL:https://business.fayettecounty.com/events/details/the-fall-fest-market-2025-15018
END:VEVENT

END:VCALENDAR
