BEGIN:VCALENDAR
VERSION:2.0
PRODID:-//ChamberMaster//Event Calendar 2.0//EN
METHOD:PUBLISH
X-PUBLISHED-TTL:P3D
REFRESH-INTERVAL:P3D
CALSCALE:GREGORIAN
BEGIN:VEVENT
DTSTART:20250710T233000Z
DTEND:20250711T023000Z
X-MICROSOFT-CDO-ALLDAYEVENT:FALSE
SUMMARY:Taylor Scott Band @ The Outpost
DESCRIPTION:Taylor Scott Band is a Denver-based force delivering a dynamic blend of funk\, soul\, and greasy rock & roll that they've dubbed "Mountain Funk." Their groove-driven sound is fueled by commanding vocals\, funky bass lines\, and fiery guitar and keyboard improvisations layered over heavy drum grooves and world music-inspired percussion. You won't want to miss 'em!!!
X-ALT-DESC;FMTTYPE=text/html:<span style="color: rgb(8\, 8\, 9)\; font-family: &quot\;Segoe UI Historic&quot\;\, &quot\;Segoe UI&quot\;\, Helvetica\, Arial\, sans-serif\; font-size: 15px\;">Taylor Scott Band is a Denver-based force delivering a dynamic blend of funk\, soul\, and greasy rock &amp\; roll that they&rsquo\;ve dubbed &quot\;Mountain Funk.&quot\; Their groove-driven sound is fueled by commanding vocals\, funky bass lines\, and fiery guitar and keyboard improvisations layered over heavy drum grooves and world music-inspired percussion. You won&#39\;t want to miss &#39\;em!!!&nbsp\;</span>
LOCATION:The Outpost 843 Fayette Station Rd Fayetteville\, WV 25840
UID:e.1703.14997
SEQUENCE:3
DTSTAMP:20260420T025556Z
URL:https://business.fayettecounty.com/events/details/taylor-scott-band-the-outpost-14997
END:VEVENT

END:VCALENDAR
