BEGIN:VCALENDAR
VERSION:2.0
PRODID:-//ChamberMaster//Event Calendar 2.0//EN
METHOD:PUBLISH
X-PUBLISHED-TTL:P3D
REFRESH-INTERVAL:P3D
CALSCALE:GREGORIAN
BEGIN:VEVENT
DTSTART:20211015T210000Z
DTEND:20211016T010000Z
X-MICROSOFT-CDO-ALLDAYEVENT:FALSE
SUMMARY:Taste of Bridge Day 2021
DESCRIPTION:Once Oak Hill and Fayetteville Rotary Clubs have merged to be Canyon Rim Rotary Club who organizes the annual Taste Of Bridge Day. This is a family friendly event that showcases the area's finest restaurants and caterers\, who offer samples of their menu specialties. Thousands of visitors come to enjoy wonderful food\, local artwork\, and live music.\n\n \n\nThe event is free to attend\, tickets are for food samples. Food samples range in price from 1 to 5 tickets. We recommend between 10 and 20 tickets per person\, depending on how many food samples you wish to enjoy. All tickets purchased in advance must be redeemed at the Advanced Ticket Booth\, at the gate.\n\n\n\nAll tickets are sold in increments of $10.
X-ALT-DESC;FMTTYPE=text/html:<div style="color: rgb(0\, 0\, 0)\; font-family: Verdana\, Arial\, Helvetica\, sans-serif\; font-size: 10px\;"><span style="font-size: 14px\;">Once Oak Hill and Fayetteville Rotary Clubs have&nbsp\;merged to be&nbsp\;Canyon Rim Rotary Club who organizes the annual Taste Of Bridge Day. This is a family friendly event that showcases the area&rsquo\;s finest restaurants and caterers\, who offer samples of their menu specialties. Thousands of visitors come to enjoy wonderful food\, local artwork\, and live music.</span><br />\n&nbsp\;</div>\n\n<div style="color: rgb(0\, 0\, 0)\; font-family: Verdana\, Arial\, Helvetica\, sans-serif\; font-size: 10px\;"><span style="font-size: 14px\;">The event is free to attend\, tickets are for food samples. Food samples range in price from 1 to 5 tickets. We recommend between 10 and 20 tickets per person\, depending on how many food samples you wish to enjoy. All tickets purchased in advance must be redeemed at the Advanced Ticket Booth\, at the gate.<br />\n<br />\nAll tickets are sold in increments of $10.</span></div>\n
LOCATION:Adventures on the Gorge 219 Chestbutburg Rd. Lansing\, WV 25862
UID:e.1703.10980
SEQUENCE:3
DTSTAMP:20260422T020106Z
URL:https://business.fayettecounty.com/events/details/taste-of-bridge-day-2021-10980
END:VEVENT

END:VCALENDAR
