BEGIN:VCALENDAR
VERSION:2.0
PRODID:-//ChamberMaster//Event Calendar 2.0//EN
METHOD:PUBLISH
X-PUBLISHED-TTL:P3D
REFRESH-INTERVAL:P3D
CALSCALE:GREGORIAN
BEGIN:VEVENT
DTSTART:20230829T230000Z
DTEND:20230830T010000Z
X-MICROSOFT-CDO-ALLDAYEVENT:FALSE
SUMMARY:Taco Tuesday
DESCRIPTION:WEEKLY TRIVIA NIGHTS AT THE LOST PADDLE!\n\nJoin us at The Lost Paddle every Tuesday night from 7-9pm for tacos and trivia night! The topics vary from week to week and the winning team will receive an awesome prize as well as be added into the seasonal drawing on Bridge Day for a $500 gift certificate to ACE Adventure Gear. Our dinner and bar menu are available and admission to play is FREE!
X-ALT-DESC;FMTTYPE=text/html:<h2 style="font-family: Helvetica\; text-align: center\; background-color: rgb(250\, 250\, 250)\; margin: 0px\; padding: 0px\; color: rgb(32\, 32\, 32)\; font-size: 22px\; font-weight: bold\; line-height: 27.5px\;"><span style="font-size: 18px\;">WEEKLY TRIVIA NIGHTS AT THE LOST PADDLE!</span></h2>\n\n<p style="color: rgb(34\, 34\, 34)\; font-family: Helvetica\; font-size: 12px\; text-align: center\; background-color: rgb(250\, 250\, 250)\; margin: 10px 0px\; padding: 0px\; line-height: 18px\;"><span style="font-size: 18px\;">Join us at The Lost Paddle every Tuesday night from 7-9pm for tacos and trivia night! The topics vary from week to week and the winning team will receive an awesome prize as well as be added into the seasonal drawing on Bridge Day for a $500 gift certificate to&nbsp\;ACE Adventure Gear. Our dinner and bar menu are available and admission to play is FREE!</span></p>\n
LOCATION:The Lost Paddle Concho Road Oak Hill\, West Virginia 25901
UID:e.1703.13449
SEQUENCE:3
DTSTAMP:20260420T123015Z
URL:https://business.fayettecounty.com/events/details/taco-tuesday-08-29-2023-13449
END:VEVENT

END:VCALENDAR
