BEGIN:VCALENDAR
VERSION:2.0
PRODID:-//ChamberMaster//Event Calendar 2.0//EN
METHOD:PUBLISH
X-PUBLISHED-TTL:P3D
REFRESH-INTERVAL:P3D
CALSCALE:GREGORIAN
BEGIN:VEVENT
DTSTART:20260827T153000Z
DTEND:20260827T210000Z
X-MICROSOFT-CDO-ALLDAYEVENT:FALSE
SUMMARY:Swing Fore! SWV Golf Tournament
DESCRIPTION:Active SWV invites golfers to the Bridge Haven Golf Club on Thursday\, Aug. 27\, 2026\, for an afternoon of philanthropy on the greens to support free local fitness programs in the 'Swing Fore!' Southern WV Golf Tournament.\n\nThis 4-person best-ball scramble directly funds Active SWV's mission to provide free physical activity programs across the region. These programs\, led by trained Community Captain volunteers\, range from community walks to REFIT exercise classes and pickleball\, removing economic barriers to health for thousands of residents.\n\nCheck-in and lunch will begin at 11:30 a.m. with tee time at 12:30 p.m.
X-ALT-DESC;FMTTYPE=text/html:Active SWV invites golfers to the Bridge Haven Golf Club on Thursday\, Aug. 27\, 2026\, for an afternoon of philanthropy on the greens to support free local fitness programs in the &lsquo\;Swing Fore!&rsquo\; Southern WV Golf Tournament.<br />\nThis 4-person best-ball scramble directly funds Active SWV&rsquo\;s mission to provide free physical activity programs across the region. These programs\, led by trained Community Captain volunteers\, range from community walks to REFIT exercise classes and pickleball\, removing economic barriers to health for thousands of residents.<br />\nCheck-in and lunch will begin at 11:30 a.m. with tee time at 12:30 p.m.
LOCATION:Bridge Haven Golf Course on the Gorge 295 Browns Road Fayetteville WV 25840
UID:e.1703.15854
SEQUENCE:3
DTSTAMP:20260421T194334Z
URL:https://business.fayettecounty.com/events/details/swing-fore-swv-golf-tournament-15854
END:VEVENT

END:VCALENDAR
