BEGIN:VCALENDAR
VERSION:2.0
PRODID:-//ChamberMaster//Event Calendar 2.0//EN
METHOD:PUBLISH
X-PUBLISHED-TTL:P3D
REFRESH-INTERVAL:P3D
CALSCALE:GREGORIAN
BEGIN:VEVENT
DTSTART:20250817T130000Z
DTEND:20250817T140000Z
X-MICROSOFT-CDO-ALLDAYEVENT:FALSE
SUMMARY:Sunday Morning Yoga @ Adventures on the Gorge
DESCRIPTION:Yoga on the pool deck behind Smokey's
X-ALT-DESC;FMTTYPE=text/html:Yoga on the pool deck behind Smokey&#39\;s&nbsp\;
LOCATION:Adventures on the Gorge
UID:e.1703.14967
SEQUENCE:3
DTSTAMP:20260420T045305Z
URL:https://business.fayettecounty.com/events/details/sunday-morning-yoga-adventures-on-the-gorge-08-17-2025-14967
END:VEVENT

END:VCALENDAR
