BEGIN:VCALENDAR
VERSION:2.0
PRODID:-//ChamberMaster//Event Calendar 2.0//EN
METHOD:PUBLISH
X-PUBLISHED-TTL:P3D
REFRESH-INTERVAL:P3D
CALSCALE:GREGORIAN
BEGIN:VEVENT
DTSTART:20250801T150000Z
DTEND:20250801T210000Z
X-MICROSOFT-CDO-ALLDAYEVENT:FALSE
SUMMARY:Stuff the Bus 2025
DESCRIPTION:HELP US SHOP FOR:\n\nbackpacks\n\npencils\n\npens\n\nglue\n\nglue sticks\n\ncrayons\n\nmarkers\n\ncolored pencils\n\ntissues\n\ndisinfecting wipes\n\nbaggies\n\npencil pouches\n\nscissors\n\nindex cards\n\nplanners\n\nnotebook paper\n\nfolders\n\nbinders
X-ALT-DESC;FMTTYPE=text/html:HELP US SHOP FOR:<br />\nbackpacks<br />\npencils<br />\npens<br />\nglue<br />\nglue sticks<br />\ncrayons<br />\nmarkers<br />\ncolored pencils<br />\ntissues<br />\ndisinfecting wipes<br />\nbaggies<br />\npencil pouches<br />\nscissors<br />\nindex cards<br />\nplanners<br />\nnotebook paper<br />\nfolders<br />\nbinders<br />\n<br />\n<br />\n<br />\n&nbsp\;
LOCATION:Walmart Fayetteville
UID:e.1703.15004
SEQUENCE:3
DTSTAMP:20260420T044328Z
URL:https://business.fayettecounty.com/events/details/stuff-the-bus-2025-15004
END:VEVENT

END:VCALENDAR
