BEGIN:VCALENDAR
VERSION:2.0
PRODID:-//ChamberMaster//Event Calendar 2.0//EN
METHOD:PUBLISH
X-PUBLISHED-TTL:P3D
REFRESH-INTERVAL:P3D
CALSCALE:GREGORIAN
BEGIN:VEVENT
DTSTART:20231104T170000Z
DTEND:20231104T220000Z
X-MICROSOFT-CDO-ALLDAYEVENT:FALSE
SUMMARY:Street Eats (Ansted)
DESCRIPTION:HUNGRY?\n\nCome check out the food trucks!
X-ALT-DESC;FMTTYPE=text/html:HUNGRY?<br />\nCome check out the food trucks!
LOCATION:Ansted\, West Virginia
UID:e.1703.14141
SEQUENCE:3
DTSTAMP:20260420T070603Z
URL:https://business.fayettecounty.com/events/details/street-eats-ansted-14141
END:VEVENT

END:VCALENDAR
