BEGIN:VCALENDAR
VERSION:2.0
PRODID:-//ChamberMaster//Event Calendar 2.0//EN
METHOD:PUBLISH
X-PUBLISHED-TTL:P3D
REFRESH-INTERVAL:P3D
CALSCALE:GREGORIAN
BEGIN:VEVENT
DTSTART:20240317T000000Z
DTEND:20240317T030000Z
X-MICROSOFT-CDO-ALLDAYEVENT:FALSE
SUMMARY:St Paddy's Day with Matt Mullins & The Bringdowns
DESCRIPTION:Let's celebrate St. Paddy's Day with a spectacular night of live music\, Guinness and good times at The Lost Paddle. Matt Mullins & The Bringdowns is set to rock The Lost Paddle indoor stage all night long! Will you find the lucky leprechaun with his pot of gold at the end of the rainbow?
X-ALT-DESC;FMTTYPE=text/html:<span style="color: rgb(5\, 5\, 5)\; font-family: &quot\;Segoe UI Historic&quot\;\, &quot\;Segoe UI&quot\;\, Helvetica\, Arial\, sans-serif\; font-size: 18.75px\;">Let&rsquo\;s celebrate St. Paddy&rsquo\;s Day with a spectacular night of live music\, Guinness and good times at The Lost Paddle. Matt Mullins &amp\; The Bringdowns is set to rock The Lost Paddle indoor stage all night long! Will you find the lucky leprechaun with his pot of gold at the end of the rainbow?</span>
LOCATION:The Lost Paddle 1 Concho Rd Oak Hill\, WV 25901
UID:e.1703.14549
SEQUENCE:3
DTSTAMP:20260419T231803Z
URL:https://business.fayettecounty.com/events/details/st-paddy-s-day-with-matt-mullins-the-bringdowns-14549
END:VEVENT

END:VCALENDAR
