BEGIN:VCALENDAR
VERSION:2.0
PRODID:-//ChamberMaster//Event Calendar 2.0//EN
METHOD:PUBLISH
X-PUBLISHED-TTL:P3D
REFRESH-INTERVAL:P3D
CALSCALE:GREGORIAN
BEGIN:VEVENT
DTSTART;VALUE=DATE:20240411
DTEND;VALUE=DATE:20240415
TRANSP:TRANSPARENT
X-MICROSOFT-CDO-ALLDAYEVENT:TRUE
SUMMARY:Spring Botany Blast
DESCRIPTION:Headquartered at Hawks Nest State Park in Ansted\, West Virginia. Pre-registration is required. Space is limited.\n\nNature enthusiasts who love to explore the great outdoors won't want to miss our upcoming Spring Botany Blast in the New River Gorge area of West Virginia. From April 11-14\, 2024\, we're hosting guided excursions where you'll see 30 to 40 wild flowering plant species on two field trips in two days.\n\nThe weekend package includes meals\, field trip transportation\, checklists\, and evening presentations. With the inclusive lodging options\, you'll stay in a private room at Hawks Nest State Park Lodge\, or a cabin\, for three nights!\n\nSmall groups of up to 12 on each field trip ensure you'll have a personalized experience with our guides: Jim McCormac\, Jodi French-Burr\, Rosanna Springston\, and Mitchell Dech.\n\nExpect to walk up to two miles on mostly easy\, and on somewhat moderate terrain Friday and Saturday. Bring your nature journal to record observations!
X-ALT-DESC;FMTTYPE=text/html:<div class="xdj266r x11i5rnm xat24cr x1mh8g0r x1vvkbs" style="margin: 0px\; overflow-wrap: break-word\; font-family: &quot\;Segoe UI Historic&quot\;\, &quot\;Segoe UI&quot\;\, Helvetica\, Arial\, sans-serif\; color: rgb(5\, 5\, 5)\; font-size: 18.75px\;">Headquartered at Hawks Nest State Park in Ansted\, West Virginia. Pre-registration is required. Space is limited.</div>\n\n<div class="x11i5rnm xat24cr x1mh8g0r x1vvkbs xtlvy1s" style="margin: 0.5em 0px 0px\; overflow-wrap: break-word\; font-family: &quot\;Segoe UI Historic&quot\;\, &quot\;Segoe UI&quot\;\, Helvetica\, Arial\, sans-serif\; color: rgb(5\, 5\, 5)\; font-size: 18.75px\;">Nature enthusiasts who love to explore the great outdoors won&rsquo\;t want to miss our upcoming Spring Botany Blast in the New River Gorge area of West Virginia. From April 11-14\, 2024\, we&rsquo\;re hosting guided excursions where you&rsquo\;ll see 30 to 40 wild flowering plant species on two field trips in two days.</div>\n\n<div class="x11i5rnm xat24cr x1mh8g0r x1vvkbs xtlvy1s" style="margin: 0.5em 0px 0px\; overflow-wrap: break-word\; font-family: &quot\;Segoe UI Historic&quot\;\, &quot\;Segoe UI&quot\;\, Helvetica\, Arial\, sans-serif\; color: rgb(5\, 5\, 5)\; font-size: 18.75px\;">The weekend package includes meals\, field trip transportation\, checklists\, and evening presentations. With the inclusive lodging options\, you&rsquo\;ll stay in a private room at Hawks Nest State Park Lodge\, or a cabin\, for three nights!</div>\n\n<div class="x11i5rnm xat24cr x1mh8g0r x1vvkbs xtlvy1s" style="margin: 0.5em 0px 0px\; overflow-wrap: break-word\; font-family: &quot\;Segoe UI Historic&quot\;\, &quot\;Segoe UI&quot\;\, Helvetica\, Arial\, sans-serif\; color: rgb(5\, 5\, 5)\; font-size: 18.75px\;">Small groups of up to 12 on each field trip ensure you&rsquo\;ll have a personalized experience with our guides: Jim McCormac\, Jodi French-Burr\, Rosanna Springston\, and Mitchell Dech.</div>\n\n<div class="x11i5rnm xat24cr x1mh8g0r x1vvkbs xtlvy1s" style="margin: 0.5em 0px 0px\; overflow-wrap: break-word\; font-family: &quot\;Segoe UI Historic&quot\;\, &quot\;Segoe UI&quot\;\, Helvetica\, Arial\, sans-serif\; color: rgb(5\, 5\, 5)\; font-size: 18.75px\;">Expect to walk up to two miles on mostly easy\, and on somewhat moderate terrain Friday and Saturday. Bring your nature journal to record observations!</div>\n
LOCATION:Hawks Nest Lodge 49 Hawks Nest Park Ansted\, West Virginia 25812
UID:e.1703.14586
SEQUENCE:3
DTSTAMP:20260419T211753Z
URL:https://business.fayettecounty.com/events/details/spring-botany-blast-14586
END:VEVENT

END:VCALENDAR
