BEGIN:VCALENDAR
VERSION:2.0
PRODID:-//ChamberMaster//Event Calendar 2.0//EN
METHOD:PUBLISH
X-PUBLISHED-TTL:P3D
REFRESH-INTERVAL:P3D
CALSCALE:GREGORIAN
BEGIN:VEVENT
DTSTART:20240323T223000Z
DTEND:20240324T010000Z
X-MICROSOFT-CDO-ALLDAYEVENT:FALSE
SUMMARY:Smokey's Slow Smoked Bourbon & BBQ Dinner
DESCRIPTION:Join us for a four course dinner featuring some of Smokey's signature slow-smoked meats and bourbon pairings from WV's own Smooth Ambler Spirits.\n\nStart Time: 6:30pm. Doors open at 6:00pm.\n\nEach course on this menu will be paired with a sample of bourbon from WV distillery Smooth Ambler Spirits in Maxwelton\, WV. These bourbons were selected by the distillery to perfectly complement our menu!\n\nMenu:\n\nUpon arrival\, every table will have house-fried pork rinds and sharp cheddar corn muffins.\n\nCourse One - Appetizer: Herbed cream cheese stuffed jalapeno wrapped in hickory smoked bacon and a corn fritter cake with smoked salmon and garlic aioli. Paired with Smooth Ambler Contradiction\n\nCourse Two - Salad Trio: Cornbread salad\, marinated heirloom tomato salad with cucumber\, red onion with vinaigrette dressing\, and broccoli cauliflower slaw. Paired with Smooth Ambler Contradiction Rye\n\nCourse Three - Entree: Smoked turkey with Alabama white sauce\, smoked coffee-rubbed brisket with brown sugar BBQ\, quarter rack of smoked baby-backed ribs served with mac n cheese\, twice-baked potato\, braised green beans. Paired with Smooth Ambler Old Scout\n\nCourse Four - Dessert: Peach cobbler with vanilla ice cream. Paired with Smooth Ambler Old Scout Rye Port Cask Finish.
X-ALT-DESC;FMTTYPE=text/html:<div class="xdj266r x11i5rnm xat24cr x1mh8g0r x1vvkbs" style="margin: 0px\; overflow-wrap: break-word\; font-family: &quot\;Segoe UI Historic&quot\;\, &quot\;Segoe UI&quot\;\, Helvetica\, Arial\, sans-serif\; color: rgb(5\, 5\, 5)\; font-size: 18.75px\;">Join us for a four course dinner featuring some of Smokey&rsquo\;s signature slow-smoked meats and bourbon pairings from WV&rsquo\;s own Smooth Ambler Spirits.</div>\n\n<div class="x11i5rnm xat24cr x1mh8g0r x1vvkbs xtlvy1s" style="margin: 0.5em 0px 0px\; overflow-wrap: break-word\; font-family: &quot\;Segoe UI Historic&quot\;\, &quot\;Segoe UI&quot\;\, Helvetica\, Arial\, sans-serif\; color: rgb(5\, 5\, 5)\; font-size: 18.75px\;">Start Time: 6:30pm. Doors open at 6:00pm.</div>\n\n<div class="x11i5rnm xat24cr x1mh8g0r x1vvkbs xtlvy1s" style="margin: 0.5em 0px 0px\; overflow-wrap: break-word\; font-family: &quot\;Segoe UI Historic&quot\;\, &quot\;Segoe UI&quot\;\, Helvetica\, Arial\, sans-serif\; color: rgb(5\, 5\, 5)\; font-size: 18.75px\;">Each course on this menu will be paired with a sample of bourbon from WV distillery Smooth Ambler Spirits in Maxwelton\, WV. These bourbons were selected by the distillery to perfectly complement our menu!</div>\n\n<div class="x11i5rnm xat24cr x1mh8g0r x1vvkbs xtlvy1s" style="margin: 0.5em 0px 0px\; overflow-wrap: break-word\; font-family: &quot\;Segoe UI Historic&quot\;\, &quot\;Segoe UI&quot\;\, Helvetica\, Arial\, sans-serif\; color: rgb(5\, 5\, 5)\; font-size: 18.75px\;">Menu:<br />\nUpon arrival\, every table will have house-fried pork rinds and sharp cheddar corn muffins.</div>\n\n<div class="x11i5rnm xat24cr x1mh8g0r x1vvkbs xtlvy1s" style="margin: 0.5em 0px 0px\; overflow-wrap: break-word\; font-family: &quot\;Segoe UI Historic&quot\;\, &quot\;Segoe UI&quot\;\, Helvetica\, Arial\, sans-serif\; color: rgb(5\, 5\, 5)\; font-size: 18.75px\;">Course One - Appetizer: Herbed cream cheese stuffed jalapeno wrapped in hickory smoked bacon and a corn fritter cake with smoked salmon and garlic aioli. Paired with Smooth Ambler Contradiction</div>\n\n<div class="x11i5rnm xat24cr x1mh8g0r x1vvkbs xtlvy1s" style="margin: 0.5em 0px 0px\; overflow-wrap: break-word\; font-family: &quot\;Segoe UI Historic&quot\;\, &quot\;Segoe UI&quot\;\, Helvetica\, Arial\, sans-serif\; color: rgb(5\, 5\, 5)\; font-size: 18.75px\;">Course Two - Salad Trio: Cornbread salad\, marinated heirloom tomato salad with cucumber\, red onion with vinaigrette dressing\, and broccoli cauliflower slaw. Paired with Smooth Ambler Contradiction Rye</div>\n\n<div class="x11i5rnm xat24cr x1mh8g0r x1vvkbs xtlvy1s" style="margin: 0.5em 0px 0px\; overflow-wrap: break-word\; font-family: &quot\;Segoe UI Historic&quot\;\, &quot\;Segoe UI&quot\;\, Helvetica\, Arial\, sans-serif\; color: rgb(5\, 5\, 5)\; font-size: 18.75px\;">Course Three - Entree: Smoked turkey with Alabama white sauce\, smoked coffee-rubbed brisket with brown sugar BBQ\, quarter rack of smoked baby-backed ribs served with mac n cheese\, twice-baked potato\, braised green beans. Paired with Smooth Ambler Old Scout</div>\n\n<div class="x11i5rnm xat24cr x1mh8g0r x1vvkbs xtlvy1s" style="margin: 0.5em 0px 0px\; overflow-wrap: break-word\; font-family: &quot\;Segoe UI Historic&quot\;\, &quot\;Segoe UI&quot\;\, Helvetica\, Arial\, sans-serif\; color: rgb(5\, 5\, 5)\; font-size: 18.75px\;">Course Four - Dessert: Peach cobbler with vanilla ice cream. Paired with Smooth Ambler Old Scout Rye Port Cask Finish.&nbsp\;</div>\n
LOCATION:Smokey's Lansing\, West Virginia
UID:e.1703.14565
SEQUENCE:3
DTSTAMP:20260420T010152Z
URL:https://business.fayettecounty.com/events/details/smokey-s-slow-smoked-bourbon-bbq-dinner-14565
END:VEVENT

END:VCALENDAR
