BEGIN:VCALENDAR
VERSION:2.0
PRODID:-//ChamberMaster//Event Calendar 2.0//EN
METHOD:PUBLISH
X-PUBLISHED-TTL:P3D
REFRESH-INTERVAL:P3D
CALSCALE:GREGORIAN
BEGIN:VEVENT
DTSTART:20250810T170000Z
DTEND:20250810T200000Z
X-MICROSOFT-CDO-ALLDAYEVENT:FALSE
SUMMARY:Smithers Jr Skill Swap
DESCRIPTION:Smithers Jr. Skill Swap: Mine and Craft Adventure\n\nWhen: Sunday\, August 10 | 1:00 4:00 PM\n\nWhere: GATEWAY Center Gym\, 2 Greyhound Ln.\, Smithers\, WV\n\nJoin us for an afternoon of pixel-powered fun! Young miners and crafters will:\n\nBuild a giant redstone lever to power a live Minecraft portal on the big screen\n\nBuild dream homes\, farms\, and community spaces in Creative Mode\n\nExplore STEM concepts with hands-on LEGO circuits and cause-and-effect puzzles\n\nHunt for biomes and learn real-world geography facts\n\nDefend a castle in a Survival challenge and earn cool awards like "Redstone Genius" and "Mob Master"\n\nAll supplies provided\, bring your Nintendo Switch if you have one! Free event\, spots are limited.
X-ALT-DESC;FMTTYPE=text/html:<div class="xdj266r x14z9mp xat24cr x1lziwak x1vvkbs" style="margin: 0px\; overflow-wrap: break-word\; font-family: &quot\;Segoe UI Historic&quot\;\, &quot\;Segoe UI&quot\;\, Helvetica\, Arial\, sans-serif\; color: rgb(8\, 8\, 9)\; font-size: 15px\;">Smithers Jr. Skill Swap: Mine and Craft Adventure</div>\n\n<div class="x14z9mp xat24cr x1lziwak x1vvkbs xtlvy1s" style="margin: 0.5em 0px 0px\; overflow-wrap: break-word\; font-family: &quot\;Segoe UI Historic&quot\;\, &quot\;Segoe UI&quot\;\, Helvetica\, Arial\, sans-serif\; color: rgb(8\, 8\, 9)\; font-size: 15px\;">When: Sunday\, August 10 | 1:00&ndash\;4:00 PM</div>\n\n<div class="x14z9mp xat24cr x1lziwak x1vvkbs xtlvy1s" style="margin: 0.5em 0px 0px\; overflow-wrap: break-word\; font-family: &quot\;Segoe UI Historic&quot\;\, &quot\;Segoe UI&quot\;\, Helvetica\, Arial\, sans-serif\; color: rgb(8\, 8\, 9)\; font-size: 15px\;">Where: GATEWAY Center Gym\, 2 Greyhound Ln.\, Smithers\, WV</div>\n\n<div class="x14z9mp xat24cr x1lziwak x1vvkbs xtlvy1s" style="margin: 0.5em 0px 0px\; overflow-wrap: break-word\; font-family: &quot\;Segoe UI Historic&quot\;\, &quot\;Segoe UI&quot\;\, Helvetica\, Arial\, sans-serif\; color: rgb(8\, 8\, 9)\; font-size: 15px\;">Join us for an afternoon of pixel-powered fun! Young miners and crafters will:</div>\n\n<div class="x14z9mp xat24cr x1lziwak x1vvkbs xtlvy1s" style="margin: 0.5em 0px 0px\; overflow-wrap: break-word\; font-family: &quot\;Segoe UI Historic&quot\;\, &quot\;Segoe UI&quot\;\, Helvetica\, Arial\, sans-serif\; color: rgb(8\, 8\, 9)\; font-size: 15px\;">Build a giant redstone lever to power a live Minecraft portal on the big screen</div>\n\n<div class="x14z9mp xat24cr x1lziwak x1vvkbs xtlvy1s" style="margin: 0.5em 0px 0px\; overflow-wrap: break-word\; font-family: &quot\;Segoe UI Historic&quot\;\, &quot\;Segoe UI&quot\;\, Helvetica\, Arial\, sans-serif\; color: rgb(8\, 8\, 9)\; font-size: 15px\;">Build dream homes\, farms\, and community spaces in Creative Mode</div>\n\n<div class="x14z9mp xat24cr x1lziwak x1vvkbs xtlvy1s" style="margin: 0.5em 0px 0px\; overflow-wrap: break-word\; font-family: &quot\;Segoe UI Historic&quot\;\, &quot\;Segoe UI&quot\;\, Helvetica\, Arial\, sans-serif\; color: rgb(8\, 8\, 9)\; font-size: 15px\;">Explore STEM concepts with hands-on LEGO circuits and cause-and-effect puzzles</div>\n\n<div class="x14z9mp xat24cr x1lziwak x1vvkbs xtlvy1s" style="margin: 0.5em 0px 0px\; overflow-wrap: break-word\; font-family: &quot\;Segoe UI Historic&quot\;\, &quot\;Segoe UI&quot\;\, Helvetica\, Arial\, sans-serif\; color: rgb(8\, 8\, 9)\; font-size: 15px\;">Hunt for biomes and learn real-world geography facts</div>\n\n<div class="x14z9mp xat24cr x1lziwak x1vvkbs xtlvy1s" style="margin: 0.5em 0px 0px\; overflow-wrap: break-word\; font-family: &quot\;Segoe UI Historic&quot\;\, &quot\;Segoe UI&quot\;\, Helvetica\, Arial\, sans-serif\; color: rgb(8\, 8\, 9)\; font-size: 15px\;">Defend a castle in a Survival challenge and earn cool awards like &ldquo\;Redstone Genius&rdquo\; and &ldquo\;Mob Master&rdquo\;</div>\n\n<div class="x14z9mp xat24cr x1lziwak x1vvkbs xtlvy1s" style="margin: 0.5em 0px 0px\; overflow-wrap: break-word\; font-family: &quot\;Segoe UI Historic&quot\;\, &quot\;Segoe UI&quot\;\, Helvetica\, Arial\, sans-serif\; color: rgb(8\, 8\, 9)\; font-size: 15px\;">All supplies provided\, bring your Nintendo Switch if you have one! Free event\, spots are limited.</div>\n
LOCATION:Smithers Gateway Cener 5 Greyhound Ln Smithers\, WV 25186
UID:e.1703.15022
SEQUENCE:3
DTSTAMP:20260420T043439Z
URL:https://business.fayettecounty.com/events/details/smithers-jr-skill-swap-15022
END:VEVENT

END:VCALENDAR
