BEGIN:VCALENDAR
VERSION:2.0
PRODID:-//ChamberMaster//Event Calendar 2.0//EN
METHOD:PUBLISH
X-PUBLISHED-TTL:P3D
REFRESH-INTERVAL:P3D
CALSCALE:GREGORIAN
BEGIN:VEVENT
DTSTART:20240301T140000Z
DTEND:20240301T160000Z
X-MICROSOFT-CDO-ALLDAYEVENT:FALSE
SUMMARY:Pickleball @ Midland Trail Community Center
DESCRIPTION:Come out and enjoy learning to play pickleball.
X-ALT-DESC;FMTTYPE=text/html:Come out and enjoy learning to play pickleball.&nbsp\;
LOCATION:Midland Trail Community Center
UID:e.1703.14550
SEQUENCE:3
DTSTAMP:20260420T081610Z
URL:https://business.fayettecounty.com/events/details/pickleball-midland-trail-community-center-14550
END:VEVENT

END:VCALENDAR
