BEGIN:VCALENDAR
VERSION:2.0
PRODID:-//ChamberMaster//Event Calendar 2.0//EN
METHOD:PUBLISH
X-PUBLISHED-TTL:P3D
REFRESH-INTERVAL:P3D
CALSCALE:GREGORIAN
BEGIN:VEVENT
DTSTART:20250725T160000Z
DTEND:20250725T200000Z
X-MICROSOFT-CDO-ALLDAYEVENT:FALSE
SUMMARY:PCB Celebrating 100 Years in Oak Hill
DESCRIPTION:In 2025\, PCB celebrates 100 years of community banking! We invite you to join us at the Oak Hill Financial Center to celebrate the milestone.\n\nEnjoy hamburgers\, hot dogs\, popcorn\, cake\, drinks\, specialty giveaways\, door prizes\, and more!
X-ALT-DESC;FMTTYPE=text/html:<div class="xdj266r x14z9mp xat24cr x1lziwak x1vvkbs" style="margin: 0px\; overflow-wrap: break-word\; font-family: &quot\;Segoe UI Historic&quot\;\, &quot\;Segoe UI&quot\;\, Helvetica\, Arial\, sans-serif\; color: rgb(8\, 8\, 9)\; font-size: 15px\;">In 2025\, PCB celebrates 100 years of community banking! We invite you to join us at the Oak Hill Financial Center to celebrate the milestone.</div>\n\n<div class="x14z9mp xat24cr x1lziwak x1vvkbs xtlvy1s" style="margin: 0.5em 0px 0px\; overflow-wrap: break-word\; font-family: &quot\;Segoe UI Historic&quot\;\, &quot\;Segoe UI&quot\;\, Helvetica\, Arial\, sans-serif\; color: rgb(8\, 8\, 9)\; font-size: 15px\;">Enjoy hamburgers\, hot dogs\, popcorn\, cake\, drinks\, specialty giveaways\, door prizes\, and more!</div>\n
LOCATION:PCB 835 E Main St Oak Hill\, WV 25901
UID:e.1703.14989
SEQUENCE:3
DTSTAMP:20260420T025448Z
URL:https://business.fayettecounty.com/events/details/pcb-celebrating-100-years-in-oak-hill-14989
END:VEVENT

END:VCALENDAR
