BEGIN:VCALENDAR
VERSION:2.0
PRODID:-//ChamberMaster//Event Calendar 2.0//EN
METHOD:PUBLISH
X-PUBLISHED-TTL:P3D
REFRESH-INTERVAL:P3D
CALSCALE:GREGORIAN
BEGIN:VEVENT
DTSTART:20250719T230000Z
DTEND:20250720T010000Z
X-MICROSOFT-CDO-ALLDAYEVENT:FALSE
SUMMARY:Paint Night at The Outpost Lodge - Appalachian Mountains
DESCRIPTION:Come on out for a fun evening Paint Night at The Outpost Campground in Fayetteville and paint the Appalachian Mountains! Choose your color palette to create your masterpiece. $35/person includes all materials and step-by-step instructions including paints\, apron\, easel & a 16x20 inch canvas. This class is beginner friendly and for adults and kids 8+ years and older. Must be 21+ to purchase and/or consume alcohol. Come out for a fun evening with a paint brush in one hand and tasty beverage in the other! **Any cancelations less than 24 hours in advance will be given credit towards a future event- Eventbrite fee is nonrefundable
X-ALT-DESC;FMTTYPE=text/html:<span style="color: rgb(8\, 8\, 9)\; font-family: &quot\;Segoe UI Historic&quot\;\, &quot\;Segoe UI&quot\;\, Helvetica\, Arial\, sans-serif\; font-size: 15px\;">Come on out for a fun evening Paint Night at The Outpost Campground in Fayetteville and paint the Appalachian Mountains! Choose your color palette to create your masterpiece. $35/person includes all materials and step-by-step instructions including paints\, apron\, easel &amp\; a 16x20 inch canvas. This class is beginner friendly and for adults and kids 8+ years and older. Must be 21+ to purchase and/or consume alcohol. Come out for a fun evening with a paint brush in one hand and tasty beverage in the other! **Any cancelations less than 24 hours in advance will be given credit towards a future event- Eventbrite fee is nonrefundable</span>
LOCATION:The Outpost at Thew New River Gorge 763 Fayette Station Rd Fayetteville\, WV 25840
UID:e.1703.15005
SEQUENCE:3
DTSTAMP:20260420T025821Z
URL:https://business.fayettecounty.com/events/details/paint-night-at-the-outpost-lodge-appalachian-mountains-15005
END:VEVENT

END:VCALENDAR
