BEGIN:VCALENDAR
VERSION:2.0
PRODID:-//ChamberMaster//Event Calendar 2.0//EN
METHOD:PUBLISH
X-PUBLISHED-TTL:P3D
REFRESH-INTERVAL:P3D
CALSCALE:GREGORIAN
BEGIN:VEVENT
DTSTART:20250715T230000Z
DTEND:20250716T010000Z
X-MICROSOFT-CDO-ALLDAYEVENT:FALSE
SUMMARY:Paint Night at Bridge Brew: Hummingbird
DESCRIPTION:Come on out for a fun evening Paint Night at Bridge Brew Works in Fayetteville painting a hummingbird! $35/person includes all materials and step-by-step instructions including paints\, apron\, easel & a 16x20 inch canvas. This class is beginner friendly\, and no prior painting experience is required. Drinks will be available for purchase- must be 21+ to purchase and/or consume alcohol. Come out for a fun evening with a paint brush in one hand and tasty beverage in the other! **Any cancelations less than 24 hours in advance will be given credit towards a future event
X-ALT-DESC;FMTTYPE=text/html:<span style="color: rgb(8\, 8\, 9)\; font-family: &quot\;Segoe UI Historic&quot\;\, &quot\;Segoe UI&quot\;\, Helvetica\, Arial\, sans-serif\; font-size: 15px\;">Come on out for a fun evening Paint Night at Bridge Brew Works in Fayetteville painting a hummingbird! $35/person includes all materials and step-by-step instructions including paints\, apron\, easel &amp\; a 16x20 inch canvas. This class is beginner friendly\, and no prior painting experience is required. Drinks will be available for purchase- must be 21+ to purchase and/or consume alcohol. Come out for a fun evening with a paint brush in one hand and tasty beverage in the other! **Any cancelations less than 24 hours in advance will be given credit towards a future event</span><span style="color: rgb(8\, 8\, 9)\; font-family: &quot\;Segoe UI Historic&quot\;\, &quot\;Segoe UI&quot\;\, Helvetica\, Arial\, sans-serif\; font-size: 15px\;">&nbsp\;</span>
LOCATION:Bridge Brew Works 335 Nick Rahall Greenway Fayetteville\, WV 25840
UID:e.1703.14993
SEQUENCE:3
DTSTAMP:20260420T025656Z
URL:https://business.fayettecounty.com/events/details/paint-night-at-bridge-brew-hummingbird-14993
END:VEVENT

END:VCALENDAR
