BEGIN:VCALENDAR
VERSION:2.0
PRODID:-//ChamberMaster//Event Calendar 2.0//EN
METHOD:PUBLISH
X-PUBLISHED-TTL:P3D
REFRESH-INTERVAL:P3D
CALSCALE:GREGORIAN
BEGIN:VEVENT
DTSTART:20260328T230000Z
DTEND:20260329T020000Z
X-MICROSOFT-CDO-ALLDAYEVENT:FALSE
SUMMARY:Open Jam with Space Freq
DESCRIPTION:Step into the groove at Open Jam Night with Space Freq on The Lost Paddle Indoor Stage! Bring your instrument\, your voice\, or just your good vibes and join the band for a night of spontaneous music-making and creative energy.\n\nWhether you're a seasoned player or just want to dip your toes into a live jam\, everyone's welcome   it's free to jam with us! Space Freq will kick things off and keep the groove rolling as musicians from near and far jump in throughout the night.\n\nCome hang out\, grab a drink\, and be part of the music. You never know what magic might happen when the jams blast off at The Lost Paddle!\n\nMore Info - https://aceraft.com/event/open-jam-night/
X-ALT-DESC;FMTTYPE=text/html:Step into the groove at Open Jam Night with Space Freq on The Lost Paddle Indoor Stage! Bring your instrument\, your voice\, or just your good vibes and join the band for a night of spontaneous music-making and creative energy.<br />\nWhether you&rsquo\;re a seasoned player or just want to dip your toes into a live jam\, everyone&rsquo\;s welcome &mdash\; it&rsquo\;s free to jam with us! Space Freq will kick things off and keep the groove rolling as musicians from near and far jump in throughout the night.<br />\nCome hang out\, grab a drink\, and be part of the music. You never know what magic might happen when the jams blast off at The Lost Paddle!<br />\nMore Info - https://aceraft.com/event/open-jam-night/
LOCATION:The Lost Paddle 1 Concho Road\, Oak Hill\, WV 25901
UID:e.1703.15739
SEQUENCE:3
DTSTAMP:20260420T160339Z
URL:https://business.fayettecounty.com/events/details/open-jam-with-space-freq-15739
END:VEVENT

END:VCALENDAR
