BEGIN:VCALENDAR
VERSION:2.0
PRODID:-//ChamberMaster//Event Calendar 2.0//EN
METHOD:PUBLISH
X-PUBLISHED-TTL:P3D
REFRESH-INTERVAL:P3D
CALSCALE:GREGORIAN
BEGIN:VEVENT
DTSTART:20260509T140000Z
DTEND:20260509T230000Z
X-MICROSOFT-CDO-ALLDAYEVENT:FALSE
SUMMARY:New River Ruckus Climbing Competition
DESCRIPTION:Gripped Fitness is hosting our first climbing competition!  New River Ruckus.  May 9th.  Open to members & non-members.  All levels\, good people\, awesome prizes.  A full day of fresh boulders\, friendly competition\, and a great community vibe.  Sign up today!
X-ALT-DESC;FMTTYPE=text/html:Gripped Fitness is hosting our first climbing competition!&nbsp\; New River Ruckus.&nbsp\; May 9th.&nbsp\; Open to members &amp\; non-members.&nbsp\; All levels\, good people\, awesome prizes.&nbsp\; A full day of fresh boulders\, friendly competition\, and a great community vibe.&nbsp\; Sign up today!
LOCATION:216 Hinkle Road Fayetteville\, WV 25840
UID:e.1703.15855
SEQUENCE:3
DTSTAMP:20260422T180903Z
URL:https://business.fayettecounty.com/events/details/new-river-ruckus-climbing-competition-15855
END:VEVENT

END:VCALENDAR
