BEGIN:VCALENDAR
VERSION:2.0
PRODID:-//ChamberMaster//Event Calendar 2.0//EN
METHOD:PUBLISH
X-PUBLISHED-TTL:P3D
REFRESH-INTERVAL:P3D
CALSCALE:GREGORIAN
BEGIN:VEVENT
DTSTART:20230331T203000Z
DTEND:20230331T233000Z
X-MICROSOFT-CDO-ALLDAYEVENT:FALSE
SUMMARY:Lenten Fish Fry
DESCRIPTION:Every Friday during Lent: February 24\, March 3\, 10\, 17\, 24\, and 31.\n\nDrive-Thru Fish Dinners to include option of fried flounder\, shrimp\, or combo meal with baked potato\, baked beans\, coleslaw\, dessert\, bread\, and sauces. Cash and checks accepted. All proceeds to benefit Sts Peter and Paul Catholic School.
X-ALT-DESC;FMTTYPE=text/html:<span style="color: rgb(5\, 5\, 5)\; font-family: &quot\;Segoe UI Historic&quot\;\, &quot\;Segoe UI&quot\;\, Helvetica\, Arial\, sans-serif\; font-size: 18.75px\;">Every Friday during Lent: February 24\, March 3\, 10\, 17\, 24\, and 31.</span><br style="color: rgb(5\, 5\, 5)\; font-family: &quot\;Segoe UI Historic&quot\;\, &quot\;Segoe UI&quot\;\, Helvetica\, Arial\, sans-serif\; font-size: 18.75px\;" />\n<span style="color: rgb(5\, 5\, 5)\; font-family: &quot\;Segoe UI Historic&quot\;\, &quot\;Segoe UI&quot\;\, Helvetica\, Arial\, sans-serif\; font-size: 18.75px\;">Drive-Thru Fish Dinners to include option of fried flounder\, shrimp\, or combo meal with baked potato\, baked beans\, coleslaw\, dessert\, bread\, and sauces. Cash and checks accepted. All proceeds to benefit Sts Peter and Paul Catholic School.</span>
LOCATION:Ss. Peter and Paul Catholic School 123 Elmore Street Oak Hill\, West Virginia 25901
UID:e.1703.12300
SEQUENCE:3
DTSTAMP:20260421T160351Z
URL:https://business.fayettecounty.com/events/details/lenten-fish-fry-12300
END:VEVENT

END:VCALENDAR
