BEGIN:VCALENDAR
VERSION:2.0
PRODID:-//ChamberMaster//Event Calendar 2.0//EN
METHOD:PUBLISH
X-PUBLISHED-TTL:P3D
REFRESH-INTERVAL:P3D
CALSCALE:GREGORIAN
BEGIN:VEVENT
DTSTART:20231118T220000Z
DTEND:20231119T010000Z
X-MICROSOFT-CDO-ALLDAYEVENT:FALSE
SUMMARY:Knitting\, Sewing and Mending @ Water Stone
DESCRIPTION:Hang out with your fellow knitters and sewists while working on your latest creation! If you are a beginner\, we will have some easy projects to get you started!
X-ALT-DESC;FMTTYPE=text/html:Hang out with your fellow knitters and sewists while working on your latest creation! If you are a beginner\, we will have some easy projects to get you started!
LOCATION:101 Wiseman Ave Fayetteville\, West Virginia
UID:e.1703.14205
SEQUENCE:3
DTSTAMP:20260420T070108Z
URL:https://business.fayettecounty.com/events/details/knitting-sewing-and-mending-at-water-stone-11-18-2023-14205
END:VEVENT

END:VCALENDAR
