BEGIN:VCALENDAR
VERSION:2.0
PRODID:-//ChamberMaster//Event Calendar 2.0//EN
METHOD:PUBLISH
X-PUBLISHED-TTL:P3D
REFRESH-INTERVAL:P3D
CALSCALE:GREGORIAN
BEGIN:VEVENT
DTSTART:20240125T230000Z
DTEND:20240126T010000Z
X-MICROSOFT-CDO-ALLDAYEVENT:FALSE
SUMMARY:Harry Potter Trivia at Chetty's Pub
DESCRIPTION:The boy who lived...come to play trivia. Grab your Firebolt\, your robes\, and your toad (not out of fashion\, if you ask me)\, and join us for an evening of Harry Potter Trivia at Chetty's Pub! Can you pass your O.W.L.s or your N.E.W.T.s? Find out at Chetty's on January 25th and 6 pm! Costumes are encouraged!
X-ALT-DESC;FMTTYPE=text/html:<span style="color: rgb(5\, 5\, 5)\; font-family: &quot\;Segoe UI Historic&quot\;\, &quot\;Segoe UI&quot\;\, Helvetica\, Arial\, sans-serif\; font-size: 18.75px\;">The boy who lived...come to play trivia. Grab your Firebolt\, your robes\, and your toad (not out of fashion\, if you ask me)\, and join us for an evening of Harry Potter Trivia at Chetty&#39\;s Pub! Can you pass your O.W.L.s or your N.E.W.T.s? Find out at Chetty&#39\;s on January 25th and 6 pm! Costumes are encouraged!</span>
LOCATION:Chetty's Pub 219 Chestnutburg Rd Lansing\, WV
UID:e.1703.14463
SEQUENCE:3
DTSTAMP:20260420T031825Z
URL:https://business.fayettecounty.com/events/details/harry-potter-trivia-at-chetty-s-pub-14463
END:VEVENT

END:VCALENDAR
