BEGIN:VCALENDAR
VERSION:2.0
PRODID:-//ChamberMaster//Event Calendar 2.0//EN
METHOD:PUBLISH
X-PUBLISHED-TTL:P3D
REFRESH-INTERVAL:P3D
CALSCALE:GREGORIAN
BEGIN:VEVENT
DTSTART:20260408T110000Z
DTEND:20260408T210000Z
X-MICROSOFT-CDO-ALLDAYEVENT:FALSE
SUMMARY:Future Forward Business Summit 2026
DESCRIPTION:Join us for Future Forward Business Summit 2026\, a premier business and economic summit and expo bringing together business leaders\, entrepreneurs and community changemakers to explore the future of economic growth and innovation in Southern West Virginia!\n\n\n\nFuture Forward is the Beckley-Raleigh County Chamber of Commerce's Annual Business Summit\, now in its third year.\n\nIt brings together business leaders\, elected officials\, healthcare professionals\, educators\,\n\nand the public for one full day of forward-looking conversation.\n\nThe goal is to create accessible\, meaningful dialogue around the future of our region -\n\nbusiness\, workforce\, healthcare\, tourism\, and quality of life.\n\n\n\n\n\n\n\nOn Wednesday\, April 8\, a full day of dynamic forums\, educational sessions and networking opportunities will be held   all focused on driving our communities toward a prosperous future.\n\n\n\nPresented by he Beckley-Raleigh County Chamber of Commerce\, Future Forward 2026 will feature engaging discussions and insights from industry experts shaping our region's future.\n\n\n\nMark your calendar and get ready to move the Future Forward!\n\n\n\nInfo\, Sponsorships\, Booth Reservations\, Contact 304-252-7328 / chamber@brccc.com
X-ALT-DESC;FMTTYPE=text/html:Join us for Future Forward Business Summit 2026\, a premier business and economic summit and expo bringing together business leaders\, entrepreneurs and community changemakers to explore the future of economic growth and innovation in Southern West Virginia!<br />\n<br />\nFuture Forward is the Beckley-Raleigh County Chamber of Commerce&#39\;s Annual Business Summit\, now in its third year.<br />\nIt brings together business leaders\, elected officials\, healthcare professionals\, educators\,<br />\nand the public for one full day of forward-looking conversation.<br />\nThe goal is to create accessible\, meaningful dialogue around the future of our region -<br />\nbusiness\, workforce\, healthcare\, tourism\, and quality of life.<br />\n<br />\n<br />\n<br />\nOn Wednesday\, April 8\, a full day of dynamic forums\, educational sessions and networking opportunities will be held &ndash\; all focused on driving our communities toward a prosperous future.<br />\n<br />\nPresented by he Beckley-Raleigh County Chamber of Commerce\, Future Forward 2026 will feature engaging discussions and insights from industry experts shaping our region&rsquo\;s future.<br />\n<br />\nMark your calendar and get ready to move the Future Forward!<br />\n<br />\nInfo\, Sponsorships\, Booth Reservations\, Contact 304-252-7328 / chamber@brccc.com
LOCATION:Beckley Raleigh County Convention Center 200 Armory Dr\, Beckley\, WV 25801
UID:e.1703.15732
SEQUENCE:3
DTSTAMP:20260420T175014Z
URL:https://business.fayettecounty.com/events/details/future-forward-business-summit-2026-15732
END:VEVENT

END:VCALENDAR
