BEGIN:VCALENDAR
VERSION:2.0
PRODID:-//ChamberMaster//Event Calendar 2.0//EN
METHOD:PUBLISH
X-PUBLISHED-TTL:P3D
REFRESH-INTERVAL:P3D
CALSCALE:GREGORIAN
BEGIN:VEVENT
DTSTART:20240329T230000Z
DTEND:20240330T010000Z
X-MICROSOFT-CDO-ALLDAYEVENT:FALSE
SUMMARY:Friday Night Trivia @ The Lost Paddle
DESCRIPTION:Join us Fridays at 7:00 PM for FREE trivia and all you can eat\, made to order\, award winning pizza for only $12!  All ages welcome!
X-ALT-DESC;FMTTYPE=text/html:Join us Fridays at 7:00 PM for FREE trivia and all you can eat\, made to order\, award winning pizza for only $12!&nbsp\; All ages welcome!&nbsp\;
LOCATION:The Lost Paddle 1 Concho Road Oak Hill\, West Virginia 25901
UID:e.1703.14532
SEQUENCE:3
DTSTAMP:20260419T231907Z
URL:https://business.fayettecounty.com/events/details/friday-night-trivia-the-lost-paddle-03-29-2024-14532
END:VEVENT

END:VCALENDAR
