BEGIN:VCALENDAR
VERSION:2.0
PRODID:-//ChamberMaster//Event Calendar 2.0//EN
METHOD:PUBLISH
X-PUBLISHED-TTL:P3D
REFRESH-INTERVAL:P3D
CALSCALE:GREGORIAN
BEGIN:VEVENT
DTSTART:20260531T220000Z
DTEND:20260601T000000Z
X-MICROSOFT-CDO-ALLDAYEVENT:FALSE
SUMMARY:Free Movie Night at the New River Convention Center
DESCRIPTION:Free Movie Night at the NRCC!   \n\nGrab your friends\, bring the family\, and join us for a night of big-screen fun on us! Sit back\, relax\, and enjoy a movie night out at the New River Convention Center.   \n\n   Guests will vote and help choose the movie on social media before the event\n\n  Movie starts at 6PM\n\n  Food will be available for purchase\n\nThe perfect excuse for a fun\, affordable night out together!
X-ALT-DESC;FMTTYPE=text/html:Free Movie Night at the NRCC! &#127871\;&#10024\;<br />\nGrab your friends\, bring the family\, and join us for a night of big-screen fun on us! Sit back\, relax\, and enjoy a movie night out at the New River Convention Center. &#127916\;&#128155\;<br />\n&#128499\;&#65039\; Guests will vote and help choose the movie on social media before the event<br />\n&#128341\; Movie starts at 6PM<br />\n&#127828\; Food will be available for purchase<br />\nThe perfect excuse for a fun\, affordable night out together!&nbsp\;
LOCATION:New River Convention Center 497 Mall Road\, Oak Hill\, WV
UID:e.1703.15728
SEQUENCE:3
DTSTAMP:20260421T062653Z
URL:https://business.fayettecounty.com/events/details/free-movie-night-at-the-new-river-convention-center-15728
END:VEVENT

END:VCALENDAR
