BEGIN:VCALENDAR
VERSION:2.0
PRODID:-//ChamberMaster//Event Calendar 2.0//EN
METHOD:PUBLISH
X-PUBLISHED-TTL:P3D
REFRESH-INTERVAL:P3D
CALSCALE:GREGORIAN
BEGIN:VEVENT
DTSTART:20250816T140000Z
DTEND:20250816T170000Z
X-MICROSOFT-CDO-ALLDAYEVENT:FALSE
SUMMARY:Foraging Hike
DESCRIPTION:Join us for a fun and informational hike and learn about foraging wild plants. Our beautiful area is full of edible goodies! Join local expert Mitchell "Berry Man" Dech as he leads us through wetlands\, woods\, and fields to discover the various plants\, trees\, buds\, and flowers that can be harvested. This event will be hands-on exploring to discover\, discuss\, and learn about edible plants in their habitats. Come prepared with comfortable shoes for moderate hiking\, approximately 2 miles. Be prepared for all weather as we will be going rain or shine! Bring a cloth bag or basket as gathering and snacking as we hike is encouraged!\n\nSaturday August 16th from 10-1pm
X-ALT-DESC;FMTTYPE=text/html:<div class="xdj266r x14z9mp xat24cr x1lziwak x1vvkbs" style="margin: 0px\; overflow-wrap: break-word\; font-family: &quot\;Segoe UI Historic&quot\;\, &quot\;Segoe UI&quot\;\, Helvetica\, Arial\, sans-serif\; color: rgb(8\, 8\, 9)\; font-size: 15px\;">Join us for a fun and informational hike and learn about foraging wild plants. Our beautiful area is full of edible goodies! Join local expert Mitchell &ldquo\;Berry Man&rdquo\; Dech as he leads us through wetlands\, woods\, and fields to discover the various plants\, trees\, buds\, and flowers that can be harvested. This event will be hands-on exploring to discover\, discuss\, and learn about edible plants in their habitats. Come prepared with comfortable shoes for moderate hiking\, approximately 2 miles. Be prepared for all weather as we will be going rain or shine! Bring a cloth bag or basket as gathering and snacking as we hike is encouraged!</div>\n\n<div class="x14z9mp xat24cr x1lziwak x1vvkbs xtlvy1s" style="margin: 0.5em 0px 0px\; overflow-wrap: break-word\; font-family: &quot\;Segoe UI Historic&quot\;\, &quot\;Segoe UI&quot\;\, Helvetica\, Arial\, sans-serif\; color: rgb(8\, 8\, 9)\; font-size: 15px\;">Saturday August 16th from 10-1pm&nbsp\;</div>\n
LOCATION:120 Kingfisher Rd Minden\, WV 25879
UID:e.1703.15009
SEQUENCE:3
DTSTAMP:20260420T044329Z
URL:https://business.fayettecounty.com/events/details/foraging-hike-15009
END:VEVENT

END:VCALENDAR
