BEGIN:VCALENDAR
VERSION:2.0
PRODID:-//ChamberMaster//Event Calendar 2.0//EN
METHOD:PUBLISH
X-PUBLISHED-TTL:P3D
REFRESH-INTERVAL:P3D
CALSCALE:GREGORIAN
BEGIN:VEVENT
DTSTART:20250726T130000Z
DTEND:20250726T160000Z
X-MICROSOFT-CDO-ALLDAYEVENT:FALSE
SUMMARY:Finns Up 5k
DESCRIPTION:Welcome to the Lake Stephens Finns Up 5K and Kids Splash Dash hosted by Active Southern West Virginia   a thrilling race experience set against the stunning backdrop of Lake Stephens. Mark your calendars for July 26h\, 2025\, and get ready to immerse yourself in the natural beauty of the area while enjoying a family-friendly event filled with excitement and celebration.\n\n5K Race: Starting at the Lake Stephens recreation parking lot area\, the Finns Up 5K takes you on a picturesque journey along a relatively flat out-and-back course. The trail guides you through a wooded trail\, offering a perfect balance of challenge and enjoyment. The race can be run\, walked\, and accompanied by leashed dogs. The 5K will be chip timed and is open to all ages wanting to podium. Awards will be given to top finishers in each division.\n\nKids Splash Dash: The Kids Splash Dash is a free non-timed fun run for youth ages 12 and under.\n\nTimeline:\n\n9 am - Kids Dash\n\n9:30 am - 5K\n\n10:30 am - Awards\n\n11 am - Start of the Raleigh County Parks and Rec Beach Blast\n\nCelebrate movement with us at the Lake Stephens Finns Up 5K\, where we'll also host a Mountaineer Mile walk as part of the Move More with Active SWV challenge! Whether you're running the 5K or joining the one-mile walk\, this is a great opportunity to kick off the 6-week virtual challenge and set your summer activity goals.
X-ALT-DESC;FMTTYPE=text/html:<div class="xdj266r x14z9mp xat24cr x1lziwak x1vvkbs" style="margin: 0px\; overflow-wrap: break-word\; font-family: &quot\;Segoe UI Historic&quot\;\, &quot\;Segoe UI&quot\;\, Helvetica\, Arial\, sans-serif\; color: rgb(8\, 8\, 9)\; font-size: 15px\;">Welcome to the Lake Stephens Finns Up 5K and Kids Splash Dash hosted by Active Southern West Virginia &ndash\; a thrilling race experience set against the stunning backdrop of Lake Stephens. Mark your calendars for July 26h\, 2025\, and get ready to immerse yourself in the natural beauty of the area while enjoying a family-friendly event filled with excitement and celebration.</div>\n\n<div class="x14z9mp xat24cr x1lziwak x1vvkbs xtlvy1s" style="margin: 0.5em 0px 0px\; overflow-wrap: break-word\; font-family: &quot\;Segoe UI Historic&quot\;\, &quot\;Segoe UI&quot\;\, Helvetica\, Arial\, sans-serif\; color: rgb(8\, 8\, 9)\; font-size: 15px\;">5K Race: Starting at the Lake Stephens recreation parking lot area\, the Finns Up 5K takes you on a picturesque journey along a relatively flat out-and-back course. The trail guides you through a wooded trail\, offering a perfect balance of challenge and enjoyment. The race can be run\, walked\, and accompanied by leashed dogs. The 5K will be chip timed and is open to all ages wanting to podium. Awards will be given to top finishers in each division.</div>\n\n<div class="x14z9mp xat24cr x1lziwak x1vvkbs xtlvy1s" style="margin: 0.5em 0px 0px\; overflow-wrap: break-word\; font-family: &quot\;Segoe UI Historic&quot\;\, &quot\;Segoe UI&quot\;\, Helvetica\, Arial\, sans-serif\; color: rgb(8\, 8\, 9)\; font-size: 15px\;">Kids Splash Dash: The Kids Splash Dash is a free non-timed fun run for youth ages 12 and under.</div>\n\n<div class="x14z9mp xat24cr x1lziwak x1vvkbs xtlvy1s" style="margin: 0.5em 0px 0px\; overflow-wrap: break-word\; font-family: &quot\;Segoe UI Historic&quot\;\, &quot\;Segoe UI&quot\;\, Helvetica\, Arial\, sans-serif\; color: rgb(8\, 8\, 9)\; font-size: 15px\;">Timeline:</div>\n\n<div class="x14z9mp xat24cr x1lziwak x1vvkbs xtlvy1s" style="margin: 0.5em 0px 0px\; overflow-wrap: break-word\; font-family: &quot\;Segoe UI Historic&quot\;\, &quot\;Segoe UI&quot\;\, Helvetica\, Arial\, sans-serif\; color: rgb(8\, 8\, 9)\; font-size: 15px\;">9 am - Kids Dash<br class="html-br" />\n9:30 am - 5K<br class="html-br" />\n10:30 am - Awards<br class="html-br" />\n11 am - Start of the Raleigh County Parks and Rec Beach Blast</div>\n\n<div class="x14z9mp xat24cr x1lziwak x1vvkbs xtlvy1s" style="margin: 0.5em 0px 0px\; overflow-wrap: break-word\; font-family: &quot\;Segoe UI Historic&quot\;\, &quot\;Segoe UI&quot\;\, Helvetica\, Arial\, sans-serif\; color: rgb(8\, 8\, 9)\; font-size: 15px\;">Celebrate movement with us at the Lake Stephens Finns Up 5K\, where we&rsquo\;ll also host a Mountaineer Mile walk as part of the Move More with Active SWV challenge! Whether you&#39\;re running the 5K or joining the one-mile walk\, this is a great opportunity to kick off the 6-week virtual challenge and set your summer activity goals.</div>\n
LOCATION:Lake Stephens
UID:e.1703.15007
SEQUENCE:3
DTSTAMP:20260420T024959Z
URL:https://business.fayettecounty.com/events/details/finns-up-5k-15007
END:VEVENT

END:VCALENDAR
