BEGIN:VCALENDAR
VERSION:2.0
PRODID:-//ChamberMaster//Event Calendar 2.0//EN
METHOD:PUBLISH
X-PUBLISHED-TTL:P3D
REFRESH-INTERVAL:P3D
CALSCALE:GREGORIAN
BEGIN:VEVENT
DTSTART:20260307T150000Z
DTEND:20260307T190000Z
X-MICROSOFT-CDO-ALLDAYEVENT:FALSE
SUMMARY:Community Health & Wellness Fair
DESCRIPTION:Community Health & Wellness Fair Brings Free Services and Local Partners Together at New River Community and Technical College\n\n\n\n[Beaver\, W.Va.] - The public is invited to attend a free Community Health & Wellness Fair at the Beaver campus of New River Community and Technical College. The event is focused on promoting health\, wellness\, and access to essential community resources. The event will bring together healthcare professionals\, educators\, and local community organizations to provide services\, information\, and support for individuals and families. The event will be held on Saturday\, March 7th from 10 a.m.- 2 p.m.\n\n\n\nThe event will feature free wellness screenings in partnership with the Beckley ARH Hospital (BARH) Mobile Screening Unit\, offering:\n\n\n\nSkin cancer screenings\n\nBMI measurements\n\nA1C testing\n\nBlood pressure checks\n\nStroke risk assessments\n\n\n\nAttendees can also access wellness education from Allied Health and Pre-Professional Programs with eye screenings\, adult and child nutrition education\, and vaping prevention.\n\n\n\nGuests are encouraged to relax and recharge with complimentary chair massages and enjoy a free hot meal provided for all attendees.\n\n\n\nIn addition to medical and wellness resources\, the fair will host several community partners offering support services throughout Southern West Virginia including Seed Sower\, Spokes\, and AWAY.\n\n\n\nThe Community Health & Wellness Fair is open to the public and free for all attendees.
X-ALT-DESC;FMTTYPE=text/html:Community Health &amp\; Wellness Fair Brings Free Services and Local Partners Together at New River Community and Technical College<br />\n<br />\n[Beaver\, W.Va.] - The public is invited to attend a free Community Health &amp\; Wellness Fair at the Beaver campus of New River Community and Technical College. The event is focused on promoting health\, wellness\, and access to essential community resources. The event will bring together healthcare professionals\, educators\, and local community organizations to provide services\, information\, and support for individuals and families. The event will be held on Saturday\, March 7th from 10 a.m.- 2 p.m.<br />\n<br />\nThe event will feature free wellness screenings in partnership with the Beckley ARH Hospital (BARH) Mobile Screening Unit\, offering:<br />\n<br />\nSkin cancer screenings<br />\nBMI measurements<br />\nA1C testing<br />\nBlood pressure checks<br />\nStroke risk assessments<br />\n<br />\nAttendees can also access wellness education from Allied Health and Pre-Professional Programs with eye screenings\, adult and child nutrition education\, and vaping prevention.<br />\n<br />\nGuests are encouraged to relax and recharge with complimentary chair massages and enjoy a free hot meal provided for all attendees.<br />\n<br />\nIn addition to medical and wellness resources\, the fair will host several community partners offering support services throughout Southern West Virginia including Seed Sower\, Spokes\, and AWAY.<br />\n<br />\nThe Community Health &amp\; Wellness Fair is open to the public and free for all attendees.
LOCATION:New River Community and Technical College 280 University Dr Beaver\, WV 25813
UID:e.1703.15721
SEQUENCE:3
DTSTAMP:20260420T160616Z
URL:https://business.fayettecounty.com/events/details/community-health-wellness-fair-15721
END:VEVENT

END:VCALENDAR
