BEGIN:VCALENDAR
VERSION:2.0
PRODID:-//ChamberMaster//Event Calendar 2.0//EN
METHOD:PUBLISH
X-PUBLISHED-TTL:P3D
REFRESH-INTERVAL:P3D
CALSCALE:GREGORIAN
BEGIN:VEVENT
DTSTART:20260523T230000Z
DTEND:20260524T010000Z
X-MICROSOFT-CDO-ALLDAYEVENT:FALSE
SUMMARY:Cheat Mountain Riders Live @ The Lost Paddle
DESCRIPTION:Get ready to kick off Memorial Day Weekend at The Lost Paddle with the high-energy sounds of Cheat Mountain Riders!\n\n\n\nJoin us on the deck Saturday night as this West Virginia powerhouse brings their signature blend of Appalachian Soul Funk infused with a dose of Rock & Roll. It's the perfect soundtrack for warm evenings\, cold drinks\, and good times at ACE Adventure Resort.\n\n\n\nExpect soulful grooves\, funky rhythms\, and rock-driven jams that keep the dance floor moving all night long. This is a free show\, so grab your friends\, snag a spot on the deck\, and settle in for an awesome night of live music under the gorge sky.\n\n\n\n  Memorial Day Weekend\n\n  The Lost Paddle   ACE Adventure Resort\n\n  Free Show\n\n\n\nCome celebrate the holiday weekend the right way good vibes\, great music\, and Appalachian soul at its finest!
X-ALT-DESC;FMTTYPE=text/html:Get ready to kick off Memorial Day Weekend at The Lost Paddle with the high-energy sounds of Cheat Mountain Riders!<br />\n<br />\nJoin us on the deck Saturday night as this West Virginia powerhouse brings their signature blend of Appalachian Soul Funk infused with a dose of Rock &amp\; Roll. It&rsquo\;s the perfect soundtrack for warm evenings\, cold drinks\, and good times at ACE Adventure Resort.<br />\n<br />\nExpect soulful grooves\, funky rhythms\, and rock-driven jams that keep the dance floor moving all night long. This is a free show\, so grab your friends\, snag a spot on the deck\, and settle in for an awesome night of live music under the gorge sky.<br />\n<br />\n&#128197\; Memorial Day Weekend<br />\n&#128205\; The Lost Paddle &ndash\; ACE Adventure Resort<br />\n&#128184\; Free Show<br />\n<br />\nCome celebrate the holiday weekend the right way&mdash\;good vibes\, great music\, and Appalachian soul at its finest!
LOCATION:The Lost Paddle 2 Concho Rd Oak Hill\, WV 25901
UID:e.1703.15724
SEQUENCE:3
DTSTAMP:20260421T081451Z
URL:https://business.fayettecounty.com/events/details/cheat-mountain-riders-live-the-lost-paddle-15724
END:VEVENT

END:VCALENDAR
