BEGIN:VCALENDAR
VERSION:2.0
PRODID:-//ChamberMaster//Event Calendar 2.0//EN
METHOD:PUBLISH
X-PUBLISHED-TTL:P3D
REFRESH-INTERVAL:P3D
CALSCALE:GREGORIAN
BEGIN:VEVENT
DTSTART;VALUE=DATE:20250726
DTEND;VALUE=DATE:20250728
TRANSP:TRANSPARENT
X-MICROSOFT-CDO-ALLDAYEVENT:TRUE
SUMMARY:Bridge Haven 4 ball Sponsored by C Adam Toney Tires
DESCRIPTION:
X-ALT-DESC;FMTTYPE=text/html:
LOCATION:Bridge Haven Golf Club 295 Browns Rd Fayetteville\, WV 25840
UID:e.1703.15000
SEQUENCE:3
DTSTAMP:20260420T045207Z
URL:https://business.fayettecounty.com/events/details/bridge-haven-4-ball-sponsored-by-c-adam-toney-tires-15000
END:VEVENT

END:VCALENDAR
