BEGIN:VCALENDAR
VERSION:2.0
PRODID:-//ChamberMaster//Event Calendar 2.0//EN
METHOD:PUBLISH
X-PUBLISHED-TTL:P3D
REFRESH-INTERVAL:P3D
CALSCALE:GREGORIAN
BEGIN:VEVENT
DTSTART:20261017T130000Z
DTEND:20261017T190000Z
X-MICROSOFT-CDO-ALLDAYEVENT:FALSE
SUMMARY:Bridge Day 2026 Into The Gorge Tickets
DESCRIPTION:Back again for 2026\, take an Into the Gorge ride into the New River Gorge to watch the BASE jumpers and rappelling. Tickets are $75/person plus tax and reservations are a must. To reserve a seat\, click on the button on this page\, or call the Fayette County Chamber of Commerce at 304-465-5617 after Jan. 2\, 2026.\n\n\n\nCancellation policy:  Cancellations prior to September 1st have the option of a refund minus any application/processing fees or rolling your tickets over to Bridge Day 2026.  Cancellations during the month of September will only have the option of rolling your tickets over to Bridge Day 2027.  There will be no refunds or rollovers after October 1st.\n\n\n\n\n\nTickets must be picked up between the hours of 9 am - 1:30 pm on October 18\, 2025 at the event.\n\n\n\nTerms & Conditions:\n\n	All Bridge Day participants are expected to be respectful of other participants and conduct themselves in a collaborative and polite manner\n	In their sole discretion and without refund\, the Fayette County Chamber of Commerce and New River Gorge Bridge Day Commission reserve the right to refuse admittance to or expel anyone from Bridge Day who it determines is engaging in any unacceptable behavior\, willful misconduct or recklessness.  Unacceptable behavior includes any rude\, intimidating\, abusive\, discriminatory\, derogatory\, demeaning\, violent or harassing conduct.\n	By registering for an Event\, you agree that the Fayette County Chamber of Commerce and its designees shall have the sole discretion to interpret or assess any behavior or conduct of a participant either reported or witnessed at Bridge Day\, and to take any and all necessary actions to deal with actions that may violate these terms and conditions\, including but not limited to cancelling or terminating an attendee's right to attend or participate in any current or future Bridge Day.
X-ALT-DESC;FMTTYPE=text/html:<span style="font-family:tahoma\;"><span style="font-size:12px\;">Back again for 2026\, take an Into the Gorge ride into the New River Gorge to watch the BASE jumpers and rappelling. Tickets are $75/person plus tax and reservations are a must. To reserve a seat\, click on the button on this page\, or call the Fayette County Chamber of Commerce at 304-465-5617 after Jan. 2\, 2026.</span></span><br />\n<br />\nCancellation policy:&nbsp\; Cancellations prior to September 1st have the option of a refund minus any application/processing fees or rolling your tickets over to Bridge Day 2026.&nbsp\; Cancellations during the month of September will only have the option of rolling your tickets over to Bridge Day 2027.&nbsp\; There will be no refunds or rollovers after October 1st.<br />\n<br />\n<br />\n<span style="font-family:tahoma\;"><span style="font-size:12px\;">Tickets must be picked up between the hours of 9 am - 1:30 pm on October 18\, 2025 at the event.<br />\n<br />\nTerms &amp\; Conditions:</span></span>\n<ul style="color: rgb(34\, 34\, 34)\; font-family: Arial\, Helvetica\, sans-serif\; font-size: small\;">\n	<li style="margin-left: 15px\;"><span style="font-family: tahoma\, sans-serif\;">All Bridge Day participants&nbsp\;are expected to be respectful of other participants&nbsp\;and conduct themselves in a collaborative and&nbsp\;polite manner</span></li>\n	<li style="margin-left: 15px\;"><span style="font-family: tahoma\, sans-serif\;">In their sole discretion and without refund\, the Fayette County Chamber of Commerce and New River Gorge Bridge Day Commission reserve the right to refuse admittance to or expel anyone from Bridge Day who it determines is engaging in any unacceptable behavior\, willful misconduct or recklessness.&nbsp\; Unacceptable behavior includes any rude\, intimidating\, abusive\, discriminatory\, derogatory\, demeaning\, violent or harassing conduct.</span></li>\n	<li style="margin-left: 15px\;"><span style="font-family: tahoma\, sans-serif\;">By registering for an Event\, you agree that the Fayette County Chamber of Commerce and its designees shall have the sole discretion to interpret or assess any behavior or conduct of a participant either reported or witnessed at Bridge Day\, and to take any and all necessary actions to deal with actions that may violate these terms and conditions\, including but not limited to cancelling or terminating an attendee&#39\;s right to attend or participate in any current or future Bridge Day.</span></li>\n</ul>\n
LOCATION:Thank you for your interest in 2026 Into the Gorge tickets for the 47th Official Bridge Day on October 17\, 2026. Upon your arrival to the festival\, please make your way to the Official Bridge Day tent on the south side of Route 19 (Fayetteville) OR the north side of Route 19 (Summersville). The Official Bridge Day tent is the very first tent in the middle of the road after passing through the security check gates. If you reach a vendor of any other kind you have walked too far. To collect your ticket\, please present your confirmation email with ID and we will provide you with your wristband and directions on how to board the buses. Park & Ride parking lots are available during the event. A round trip park and ride for $5 will bring you straight to the gates of Bridge Day (saves a ton of walking!!). Should you have any questions prior to the event\, please give our office a call or an email. Anyone here can assist you. Follow us on Facebook \, Instagram and Twitter for the most up to date information. We look forward to having you join us for the 46th Celebration of Bridge Day!
UID:e.1703.15123
SEQUENCE:3
DTSTAMP:20260421T045016Z
URL:https://business.fayettecounty.com/events/details/bridge-day-2026-into-the-gorge-tickets-15123
END:VEVENT

END:VCALENDAR
