BEGIN:VCALENDAR
VERSION:2.0
PRODID:-//ChamberMaster//Event Calendar 2.0//EN
METHOD:PUBLISH
X-PUBLISHED-TTL:P3D
REFRESH-INTERVAL:P3D
CALSCALE:GREGORIAN
BEGIN:VEVENT
DTSTART:20210703T210000Z
DTEND:20210703T230000Z
X-MICROSOFT-CDO-ALLDAYEVENT:FALSE
SUMMARY:Big Air Blob Competition
DESCRIPTION:Gather at Wonderland Water Park for the 11th Annual Big Air Blob Competition. Fireworks won't be the only thing rocketing skyward on Independence Day. Teams of two will compete for the most outrageous blob of the day. Judges will score up to 10 points per blob based on form\, height or just sheer craziness. Cash Prizes for the 1st\, 2nd and 3rd place winners! When you check-in be sure to ask for details at the ACE Welcome Center.
X-ALT-DESC;FMTTYPE=text/html:<span style="font-size:12px\;"><span style="font-family:arial\;"><span style="color: rgb(34\, 34\, 34)\;">Gather at Wonderland Water Park for the 11th Annual Big Air Blob Competition. Fireworks won&rsquo\;t be the only thing rocketing skyward on Independence Day. Teams of two will compete for the most outrageous blob of the day. Judges will score up to 10 points per blob based on form\, height or just sheer craziness. Cash Prizes for the 1st\, 2nd and 3rd place winners! When you check-in be sure to ask for details at the ACE Welcome Center.</span></span></span>
LOCATION:
UID:e.1703.10903
SEQUENCE:3
DTSTAMP:20260419T172951Z
URL:https://business.fayettecounty.com/events/details/big-air-blob-competition-10903
END:VEVENT

END:VCALENDAR
