BEGIN:VCALENDAR
VERSION:2.0
PRODID:-//ChamberMaster//Event Calendar 2.0//EN
METHOD:PUBLISH
X-PUBLISHED-TTL:P3D
REFRESH-INTERVAL:P3D
CALSCALE:GREGORIAN
BEGIN:VEVENT
DTSTART:20250823T200000Z
DTEND:20250824T000000Z
X-MICROSOFT-CDO-ALLDAYEVENT:FALSE
SUMMARY:Artists of the New Festival
DESCRIPTION:Join us for YEAR 4 of Artists of the New! This festival includes art\, food\, vendors\, craft beer\, and more!\n\nCheck out our opening night of the ARTISTS OF THE NEW EXHIBIT\, featuring artists from Fayette\, Raleigh\, and Summers Counties.\n\nMusic Lineup this year:\n\n-Headliner: COLBY T. HELMS & THE VIRGINIA CREEPERS\n\n-ARCHIE & THE SPEEDWOBBLES\n\n-RYAN BRADENBURG & THE CARLISLE TRASH PILE\n\nFREE ADMISSION and family friendly!\n\n*GUESTS ARE ENCOURAGED TO PARK AT THE BOARD OF EDUCATION AND WALK DOWN TO THE EVENT. ROTAN STREET WILL BE CLOSED FOR THE EVENT.
X-ALT-DESC;FMTTYPE=text/html:<div class="xdj266r x14z9mp xat24cr x1lziwak x1vvkbs" style="margin: 0px\; overflow-wrap: break-word\; font-family: &quot\;Segoe UI Historic&quot\;\, &quot\;Segoe UI&quot\;\, Helvetica\, Arial\, sans-serif\; color: rgb(8\, 8\, 9)\; font-size: 15px\;">Join us for YEAR 4 of Artists of the New! This festival includes art\, food\, vendors\, craft beer\, and more!<br class="html-br" />\nCheck out our opening night of the ARTISTS OF THE NEW EXHIBIT\, featuring artists from Fayette\, Raleigh\, and Summers Counties.<br class="html-br" />\nMusic Lineup this year:<br class="html-br" />\n-Headliner: COLBY T. HELMS &amp\; THE VIRGINIA CREEPERS<br class="html-br" />\n-ARCHIE &amp\; THE SPEEDWOBBLES<br class="html-br" />\n-RYAN BRADENBURG &amp\; THE CARLISLE TRASH PILE</div>\n\n<div class="x14z9mp xat24cr x1lziwak x1vvkbs xtlvy1s" style="margin: 0.5em 0px 0px\; overflow-wrap: break-word\; font-family: &quot\;Segoe UI Historic&quot\;\, &quot\;Segoe UI&quot\;\, Helvetica\, Arial\, sans-serif\; color: rgb(8\, 8\, 9)\; font-size: 15px\;">FREE ADMISSION and family friendly!</div>\n\n<div class="x14z9mp xat24cr x1lziwak x1vvkbs xtlvy1s" style="margin: 0.5em 0px 0px\; overflow-wrap: break-word\; font-family: &quot\;Segoe UI Historic&quot\;\, &quot\;Segoe UI&quot\;\, Helvetica\, Arial\, sans-serif\; color: rgb(8\, 8\, 9)\; font-size: 15px\;">*GUESTS ARE ENCOURAGED TO PARK AT THE BOARD OF EDUCATION AND WALK DOWN TO THE EVENT. ROTAN STREET WILL BE CLOSED FOR THE EVENT.&nbsp\;</div>\n
LOCATION:Love Hope Center for the Arts 100 Rotan St Fayetteville\, WV 25840
UID:e.1703.15029
SEQUENCE:3
DTSTAMP:20260420T045252Z
URL:https://business.fayettecounty.com/events/details/artists-of-the-new-festival-15029
END:VEVENT

END:VCALENDAR
