BEGIN:VCALENDAR
VERSION:2.0
PRODID:-//ChamberMaster//Event Calendar 2.0//EN
METHOD:PUBLISH
X-PUBLISHED-TTL:P3D
REFRESH-INTERVAL:P3D
CALSCALE:GREGORIAN
BEGIN:VEVENT
DTSTART:20250712T190000Z
DTEND:20250712T220000Z
X-MICROSOFT-CDO-ALLDAYEVENT:FALSE
SUMMARY:Arrowhead Bike Farm Dual Tap Takeover with Hawk Knob Cider
DESCRIPTION:Come out and join us on Saturday\, July 12th from 3-6PM for a dual Tap Takeover with Greenbrier Valley Brewing Company at Arrowhead Bike Farm in Fayetteville! We will feature 2 Ciders on Draft GVBC will have 4 Beers on Tap. We will have Reps on site come spend a Saturday with us at the Farm!
X-ALT-DESC;FMTTYPE=text/html:<span style="color: rgb(8\, 8\, 9)\; font-family: &quot\;Segoe UI Historic&quot\;\, &quot\;Segoe UI&quot\;\, Helvetica\, Arial\, sans-serif\; font-size: 15px\;">Come out and join us on Saturday\, July 12th from 3-6PM for a dual Tap Takeover with Greenbrier Valley Brewing Company at Arrowhead Bike Farm in Fayetteville! We will feature 2 Ciders on Draft GVBC will have 4 Beers on Tap. We will have Reps on site come spend a Saturday with us at the Farm!</span>
LOCATION:Arrowhead Bike Farm 8263 Gatewood Rd Fayetteville\, WV 25840
UID:e.1703.14995
SEQUENCE:3
DTSTAMP:20260420T025954Z
URL:https://business.fayettecounty.com/events/details/arrowhead-bike-farm-dual-tap-takeover-with-hawk-knob-cider-14995
END:VEVENT

END:VCALENDAR
