BEGIN:VCALENDAR
VERSION:2.0
PRODID:-//ChamberMaster//Event Calendar 2.0//EN
METHOD:PUBLISH
X-PUBLISHED-TTL:P3D
REFRESH-INTERVAL:P3D
CALSCALE:GREGORIAN
BEGIN:VEVENT
DTSTART:20250807T220000Z
DTEND:20250808T010000Z
X-MICROSOFT-CDO-ALLDAYEVENT:FALSE
SUMMARY:Active SWV's Annual Celebration Wildflowers & Wonder: A Night of Gratitude
DESCRIPTION:Come celebrate the impact we've made together and help us continue to grow. We are excited to invite you to the Active SWV Annual Celebration - Wildflowers & Wonder. We will spend a beautiful night celebrating the important work of building active lifestyles in our communities. This fundraising event will honor exceptional organization champions during an evening of great food and live music. The atmosphere will be a fresh summer floral theme. Enjoy an evening of: Live music from Long Point String Band\, A cash bar with your favorite beverages\, A delicious spread of heavy hors d'oeuvres\, Comfortable Florals and Denim dress code\, Uplifting company and heartfelt recognition of Active SWV's amazing volunteers and work across the state.
X-ALT-DESC;FMTTYPE=text/html:<span style="color: rgb(8\, 8\, 9)\; font-family: &quot\;Segoe UI Historic&quot\;\, &quot\;Segoe UI&quot\;\, Helvetica\, Arial\, sans-serif\; font-size: 15px\;">Come celebrate the impact we&#39\;ve made together&mdash\;and help us continue to grow. We are excited to invite you to the Active SWV Annual Celebration - Wildflowers &amp\; Wonder. We will spend a beautiful night celebrating the important work of building active lifestyles in our communities. This fundraising event will honor exceptional organization champions during an evening of great food and live music. The atmosphere will be a fresh summer floral theme. Enjoy an evening of: Live music from Long Point String Band\, A cash bar with your favorite beverages\, A delicious spread of heavy hors d&rsquo\;oeuvres\, Comfortable Florals and Denim dress code\, Uplifting company and heartfelt recognition of Active SWV&rsquo\;s amazing volunteers and work across the state.</span>
LOCATION:Black Knight Country Club
UID:e.1703.15008
SEQUENCE:3
DTSTAMP:20260420T043957Z
URL:https://business.fayettecounty.com/events/details/active-swv-s-annual-celebration-wildflowers-wonder-a-night-of-gratitude-15008
END:VEVENT

END:VCALENDAR
