BEGIN:VCALENDAR
VERSION:2.0
PRODID:-//ChamberMaster//Event Calendar 2.0//EN
METHOD:PUBLISH
X-PUBLISHED-TTL:P3D
REFRESH-INTERVAL:P3D
CALSCALE:GREGORIAN
BEGIN:VEVENT
DTSTART:20251018T190000Z
DTEND:20251018T220000Z
X-MICROSOFT-CDO-ALLDAYEVENT:FALSE
SUMMARY:2025 Bridge Day Chili Cook-Off
DESCRIPTION:Things are heating up in Fayetteville with the 14th Annual Bridge Day Chili Cook-off! Come to Historic downtown Fayetteville\, stop by to taste\, and to help judge some of the best chili samples from around the region from mild to wild! Admission and parking are FREE\, but there is a charge for chili tasting tickets.\n\nEnjoy incredible live music\, delicious chili\, activities for the kids\, and more! Help us Crown this year's Chili King or Queen with the People's choice vote\, bead your favorite chef!\n\nWe will be set up in downtown Fayetteville on Court Street in front of the Fayette County Court House. New to this year we will have a youth division!\n\nSchedule:\n\nRegistration and Set-up 1:30pm-2:30p.m\n\nTasting\, Judging\, Voting 3:00pm-5:00pm\n\nAwards 5:45pm\n\nPrizes:\n\n1st Place $600\n\n2nd Place $400\n\n3rd Place $200\n\nBest Vegetarian $200\n\nYouth Division\n\n1st Place $600\n\n2nd Place $400\n\nPeople's Choice $150\n\nBest Decorated booth $25\n\nBest Cornbread $100\n\n5 Chili Tasting Tickets $10 (cash only )\n\nhttps://visitfayettevillewv.com/.../bridge-day-chili.../\n\nHelp us pull off an epic Chili Cook-off by sponsoring our event.\n\nFor sponsorship information: call (304) 574-1500 or email info@visitfayettevillewv.com
X-ALT-DESC;FMTTYPE=text/html:<span style="color: rgb(8\, 8\, 9)\; font-family: &quot\;Segoe UI Historic&quot\;\, &quot\;Segoe UI&quot\;\, Helvetica\, Arial\, sans-serif\; font-size: 15px\;">Things are heating up in Fayetteville with the 14th Annual Bridge Day Chili Cook-off! Come to Historic downtown Fayetteville\, stop by to taste\, and to help judge some of the best chili samples from around the region from mild to wild! Admission and parking are FREE\, but there is a charge for chili tasting tickets.</span><br class="html-br" style="color: rgb(8\, 8\, 9)\; font-family: &quot\;Segoe UI Historic&quot\;\, &quot\;Segoe UI&quot\;\, Helvetica\, Arial\, sans-serif\; font-size: 15px\;" />\n<span style="color: rgb(8\, 8\, 9)\; font-family: &quot\;Segoe UI Historic&quot\;\, &quot\;Segoe UI&quot\;\, Helvetica\, Arial\, sans-serif\; font-size: 15px\;">Enjoy incredible live music\, delicious chili\, activities for the kids\, and more! Help us Crown this year&rsquo\;s Chili King or Queen with the People&#39\;s choice vote\, bead your favorite chef!</span><br class="html-br" style="color: rgb(8\, 8\, 9)\; font-family: &quot\;Segoe UI Historic&quot\;\, &quot\;Segoe UI&quot\;\, Helvetica\, Arial\, sans-serif\; font-size: 15px\;" />\n<span style="color: rgb(8\, 8\, 9)\; font-family: &quot\;Segoe UI Historic&quot\;\, &quot\;Segoe UI&quot\;\, Helvetica\, Arial\, sans-serif\; font-size: 15px\;">We will be set up in downtown Fayetteville on Court Street in front of the Fayette County Court House. New to this year we will have a youth division!</span><br class="html-br" style="color: rgb(8\, 8\, 9)\; font-family: &quot\;Segoe UI Historic&quot\;\, &quot\;Segoe UI&quot\;\, Helvetica\, Arial\, sans-serif\; font-size: 15px\;" />\n<span style="color: rgb(8\, 8\, 9)\; font-family: &quot\;Segoe UI Historic&quot\;\, &quot\;Segoe UI&quot\;\, Helvetica\, Arial\, sans-serif\; font-size: 15px\;">Schedule:</span><br class="html-br" style="color: rgb(8\, 8\, 9)\; font-family: &quot\;Segoe UI Historic&quot\;\, &quot\;Segoe UI&quot\;\, Helvetica\, Arial\, sans-serif\; font-size: 15px\;" />\n<span style="color: rgb(8\, 8\, 9)\; font-family: &quot\;Segoe UI Historic&quot\;\, &quot\;Segoe UI&quot\;\, Helvetica\, Arial\, sans-serif\; font-size: 15px\;">Registration and Set-up 1:30pm-2:30p.m</span><br class="html-br" style="color: rgb(8\, 8\, 9)\; font-family: &quot\;Segoe UI Historic&quot\;\, &quot\;Segoe UI&quot\;\, Helvetica\, Arial\, sans-serif\; font-size: 15px\;" />\n<span style="color: rgb(8\, 8\, 9)\; font-family: &quot\;Segoe UI Historic&quot\;\, &quot\;Segoe UI&quot\;\, Helvetica\, Arial\, sans-serif\; font-size: 15px\;">Tasting\, Judging\, Voting 3:00pm-5:00pm</span><br class="html-br" style="color: rgb(8\, 8\, 9)\; font-family: &quot\;Segoe UI Historic&quot\;\, &quot\;Segoe UI&quot\;\, Helvetica\, Arial\, sans-serif\; font-size: 15px\;" />\n<span style="color: rgb(8\, 8\, 9)\; font-family: &quot\;Segoe UI Historic&quot\;\, &quot\;Segoe UI&quot\;\, Helvetica\, Arial\, sans-serif\; font-size: 15px\;">Awards 5:45pm</span><br class="html-br" style="color: rgb(8\, 8\, 9)\; font-family: &quot\;Segoe UI Historic&quot\;\, &quot\;Segoe UI&quot\;\, Helvetica\, Arial\, sans-serif\; font-size: 15px\;" />\n<span style="color: rgb(8\, 8\, 9)\; font-family: &quot\;Segoe UI Historic&quot\;\, &quot\;Segoe UI&quot\;\, Helvetica\, Arial\, sans-serif\; font-size: 15px\;">Prizes:</span><br class="html-br" style="color: rgb(8\, 8\, 9)\; font-family: &quot\;Segoe UI Historic&quot\;\, &quot\;Segoe UI&quot\;\, Helvetica\, Arial\, sans-serif\; font-size: 15px\;" />\n<span style="color: rgb(8\, 8\, 9)\; font-family: &quot\;Segoe UI Historic&quot\;\, &quot\;Segoe UI&quot\;\, Helvetica\, Arial\, sans-serif\; font-size: 15px\;">1st Place $600</span><br class="html-br" style="color: rgb(8\, 8\, 9)\; font-family: &quot\;Segoe UI Historic&quot\;\, &quot\;Segoe UI&quot\;\, Helvetica\, Arial\, sans-serif\; font-size: 15px\;" />\n<span style="color: rgb(8\, 8\, 9)\; font-family: &quot\;Segoe UI Historic&quot\;\, &quot\;Segoe UI&quot\;\, Helvetica\, Arial\, sans-serif\; font-size: 15px\;">2nd Place $400</span><br class="html-br" style="color: rgb(8\, 8\, 9)\; font-family: &quot\;Segoe UI Historic&quot\;\, &quot\;Segoe UI&quot\;\, Helvetica\, Arial\, sans-serif\; font-size: 15px\;" />\n<span style="color: rgb(8\, 8\, 9)\; font-family: &quot\;Segoe UI Historic&quot\;\, &quot\;Segoe UI&quot\;\, Helvetica\, Arial\, sans-serif\; font-size: 15px\;">3rd Place $200</span><br class="html-br" style="color: rgb(8\, 8\, 9)\; font-family: &quot\;Segoe UI Historic&quot\;\, &quot\;Segoe UI&quot\;\, Helvetica\, Arial\, sans-serif\; font-size: 15px\;" />\n<span style="color: rgb(8\, 8\, 9)\; font-family: &quot\;Segoe UI Historic&quot\;\, &quot\;Segoe UI&quot\;\, Helvetica\, Arial\, sans-serif\; font-size: 15px\;">Best Vegetarian $200</span><br class="html-br" style="color: rgb(8\, 8\, 9)\; font-family: &quot\;Segoe UI Historic&quot\;\, &quot\;Segoe UI&quot\;\, Helvetica\, Arial\, sans-serif\; font-size: 15px\;" />\n<span style="color: rgb(8\, 8\, 9)\; font-family: &quot\;Segoe UI Historic&quot\;\, &quot\;Segoe UI&quot\;\, Helvetica\, Arial\, sans-serif\; font-size: 15px\;">Youth Division</span><br class="html-br" style="color: rgb(8\, 8\, 9)\; font-family: &quot\;Segoe UI Historic&quot\;\, &quot\;Segoe UI&quot\;\, Helvetica\, Arial\, sans-serif\; font-size: 15px\;" />\n<span style="color: rgb(8\, 8\, 9)\; font-family: &quot\;Segoe UI Historic&quot\;\, &quot\;Segoe UI&quot\;\, Helvetica\, Arial\, sans-serif\; font-size: 15px\;">1st Place $600</span><br class="html-br" style="color: rgb(8\, 8\, 9)\; font-family: &quot\;Segoe UI Historic&quot\;\, &quot\;Segoe UI&quot\;\, Helvetica\, Arial\, sans-serif\; font-size: 15px\;" />\n<span style="color: rgb(8\, 8\, 9)\; font-family: &quot\;Segoe UI Historic&quot\;\, &quot\;Segoe UI&quot\;\, Helvetica\, Arial\, sans-serif\; font-size: 15px\;">2nd Place $400</span><br class="html-br" style="color: rgb(8\, 8\, 9)\; font-family: &quot\;Segoe UI Historic&quot\;\, &quot\;Segoe UI&quot\;\, Helvetica\, Arial\, sans-serif\; font-size: 15px\;" />\n<span style="color: rgb(8\, 8\, 9)\; font-family: &quot\;Segoe UI Historic&quot\;\, &quot\;Segoe UI&quot\;\, Helvetica\, Arial\, sans-serif\; font-size: 15px\;">People&rsquo\;s Choice $150</span><br class="html-br" style="color: rgb(8\, 8\, 9)\; font-family: &quot\;Segoe UI Historic&quot\;\, &quot\;Segoe UI&quot\;\, Helvetica\, Arial\, sans-serif\; font-size: 15px\;" />\n<span style="color: rgb(8\, 8\, 9)\; font-family: &quot\;Segoe UI Historic&quot\;\, &quot\;Segoe UI&quot\;\, Helvetica\, Arial\, sans-serif\; font-size: 15px\;">Best Decorated booth $25</span><br class="html-br" style="color: rgb(8\, 8\, 9)\; font-family: &quot\;Segoe UI Historic&quot\;\, &quot\;Segoe UI&quot\;\, Helvetica\, Arial\, sans-serif\; font-size: 15px\;" />\n<span style="color: rgb(8\, 8\, 9)\; font-family: &quot\;Segoe UI Historic&quot\;\, &quot\;Segoe UI&quot\;\, Helvetica\, Arial\, sans-serif\; font-size: 15px\;">Best Cornbread $100</span><br class="html-br" style="color: rgb(8\, 8\, 9)\; font-family: &quot\;Segoe UI Historic&quot\;\, &quot\;Segoe UI&quot\;\, Helvetica\, Arial\, sans-serif\; font-size: 15px\;" />\n<span style="color: rgb(8\, 8\, 9)\; font-family: &quot\;Segoe UI Historic&quot\;\, &quot\;Segoe UI&quot\;\, Helvetica\, Arial\, sans-serif\; font-size: 15px\;">5 Chili Tasting Tickets $10 (cash only )</span><br class="html-br" style="color: rgb(8\, 8\, 9)\; font-family: &quot\;Segoe UI Historic&quot\;\, &quot\;Segoe UI&quot\;\, Helvetica\, Arial\, sans-serif\; font-size: 15px\;" />\n<a attributionsrc="/privacy_sandbox/comet/register/source/?xt=AZXkuqJxNdvJdOKoUTVfps6hyHfcLzFe1s_PgBMSLhZ0XLojUcmP71oR8GaGdcJnm5OpJUkOgHwObX8vxpOmBDKAR_Bf_w1ELOfg5e_3AYEqVQr76Dd18Ino0FsdqPuksHfqI8w2fJ6en8EVDT4l60RZ1ie9M3EFqHtlxmBwyNBOn8O2WXlM2GGMZhp1BiH40uQdf30dXI-btuhnN7hshEZ2wOKryFqO4IF66wmeuiW0KfjRo0amksmh7pf9_oAyyBQm-wODxPBLHsGYdri6TnKvrcOf9l-s3FKSSGmjflmHw8ZfIu6IaTtdVVBmHsq_JnCj4Nd7K33P64SqxfuPtRcRTHVAW59LHdl797TzFZY2EjwNANpUrqvuD3SNSBIVj5xh5d0pbe25qMtP9epRKy2mTf2dfJlJvrTbpixbdT1tKKVbdMFa_Z30MlL3JU2qzp8S-SN5AKJLhsIYMgxj8wlasFPi1gRes9ZIFPiUTIv3y0-Jz30CLQaRfwRi9jGyRhwJkENTsf5m1NlWM9heqWFrXDNkPnSi29ufTssw_Xx8cu3e9LtGEYNOIUkPfvu1M8kFPELsKDP2HUloFPQ8tcQcnpaMCPAbNUe8Ddpg4q2LuxtitMFkPrYU5eSPJuoKr_W0xqsXbgasCS-TVAFSOy7Ho2Oe2-QHwj7LcsVKhzLvyxyiffwsLISZ87kyefig2H62s7sLh9tQUlCOCSo39nnXiNVjxhY086WXqs2U_Hu7Ivhu5cPtoOMDj9WkYCvZoesTnpC_W3eYXHy3YKej1y6XdbXQ8FoGi6i3_zqbOzwdHDhlipjyuxu5hRiH1aHuDYoJxSaJhPUpRKwa1GY7EQuG0hNKmJd1mxvmXQkdnAXRdA" class="x1i10hfl xjbqb8w x1ejq31n x18oe1m7 x1sy0etr xstzfhl x972fbf x10w94by x1qhh985 x14e42zd x9f619 x1ypdohk xt0psk2 xe8uvvx xdj266r x14z9mp xat24cr x1lziwak xexx8yu xyri2b x18d9i69 x1c1uobl x16tdsg8 x1hl2dhg xggy1nq x1a2a7pz xkrqix3 x1sur9pj x1fey0fg x1s688f" href="https://l.facebook.com/l.php?u=https%3A%2F%2Fvisitfayettevillewv.com%2F...%2Fbridge-day-chili...%2F%3Ffbclid%3DIwZXh0bgNhZW0CMTAAYnJpZBExbHZpaTVzTnpoUHl4ZkQ3VwEeGpbZ2d0djL7NdrZPpX8RTp0o_AP90fTz26v6BQkr1WqI2f2PfnwhsGiSGY0_aem_iqn8LPrQFDWKnzHxqj7YKA&amp\;h=AT0k49EnkBAEmY0OErNV026wYP--TZ67eW7eytfjmvgqKAPEizko3HhKKesXTIOFZaaL32cPBr2OcrIs8OlzJBuWodWurSNJh_RGw8vZtqlKCiqoVE3MBxNfWyJ36mv1Dl-Vr8enm-YGAw&amp\;__tn__=q&amp\;c[0]=AT01MbeVcTig0DkgX40ZtTy0tMM7GgJ2CgWPyP-_eznZcXSAuDUnjs2fffv4_Ld-xjISRtTW-qMcppCjuoP9LaNeaCikUPAppJparSkNVXsbeyzfr-7cq6HuFIzL8AGDdCZVHCu81Sed9FVwSIaLeKZESXanej0oqIU" rel="nofollow" role="link" style="color: rgb(0\, 100\, 209)\; cursor: pointer\; text-decoration-line: none\; list-style: none\; border-width: 0px\; margin: 0px\; border-style: none\; padding: 0px\; box-sizing: border-box\; outline: none\; -webkit-tap-highlight-color: transparent\; font-weight: 600\; touch-action: manipulation\; display: inline\; font-family: &quot\;Segoe UI Historic&quot\;\, &quot\;Segoe UI&quot\;\, Helvetica\, Arial\, sans-serif\; font-size: 15px\;" tabindex="0" target="_blank">https://visitfayettevillewv.com/.../bridge-day-chili.../</a><br class="html-br" style="color: rgb(8\, 8\, 9)\; font-family: &quot\;Segoe UI Historic&quot\;\, &quot\;Segoe UI&quot\;\, Helvetica\, Arial\, sans-serif\; font-size: 15px\;" />\n<span style="color: rgb(8\, 8\, 9)\; font-family: &quot\;Segoe UI Historic&quot\;\, &quot\;Segoe UI&quot\;\, Helvetica\, Arial\, sans-serif\; font-size: 15px\;">Help us pull off an epic Chili Cook-off by sponsoring our event.</span><br class="html-br" style="color: rgb(8\, 8\, 9)\; font-family: &quot\;Segoe UI Historic&quot\;\, &quot\;Segoe UI&quot\;\, Helvetica\, Arial\, sans-serif\; font-size: 15px\;" />\n<span style="color: rgb(8\, 8\, 9)\; font-family: &quot\;Segoe UI Historic&quot\;\, &quot\;Segoe UI&quot\;\, Helvetica\, Arial\, sans-serif\; font-size: 15px\;">For sponsorship information: call (304) 574-1500 or email info@visitfayettevillewv.com</span>
LOCATION:Fayetteville West Virginia
UID:e.1703.15017
SEQUENCE:3
DTSTAMP:20260420T081148Z
URL:https://business.fayettecounty.com/events/details/2025-bridge-day-chili-cook-off-15017
END:VEVENT

END:VCALENDAR
