BEGIN:VCALENDAR
VERSION:2.0
PRODID:-//ChamberMaster//Event Calendar 2.0//EN
METHOD:PUBLISH
X-PUBLISHED-TTL:P3D
REFRESH-INTERVAL:P3D
CALSCALE:GREGORIAN
BEGIN:VEVENT
DTSTART:20260606T140000Z
DTEND:20260606T210000Z
X-MICROSOFT-CDO-ALLDAYEVENT:FALSE
SUMMARY:15th Annual White Oak Rail Trail Expo
DESCRIPTION:Join us for over 150 unique vendors including live entertainment! This event is held on a handicapped accessible\, pedestrian friendly\, paved trail located in Oak Hill\, WV! Adjacent to the New River Gorge National Park! Enjoy a Fun Filled Day for the Whole Family!\n\nAn email will been sent to last year's vendors to be able to register! If you are a vendor from last year and don't receive an email February 1st please message the page! Please do not post your email on the page in comments. There are alot of scammers out there!\n\nRegistration will be open to returning vendors on February 1st\, 2026! New vendor applications will be open March 1st\, 2026!\n\nPlease do not post your email address on the event page. Message the page with your email address if you don't receive a returning vendor email.\n\nChrista Hodges is the only event coordinator for the Rail Trail Expo.
X-ALT-DESC;FMTTYPE=text/html:<div class="xdj266r x14z9mp xat24cr x1lziwak x1vvkbs" style="overflow-wrap: break-word\; margin-inline: 0px\; margin-bottom: 0px\; margin-top: 0px\; font-family: &quot\;Segoe UI Historic&quot\;\, &quot\;Segoe UI&quot\;\, Helvetica\, Arial\, sans-serif\; color: rgb(8\, 8\, 9)\; font-size: 15px\;">Join us for over 150 unique vendors including live entertainment! This event is held on a handicapped accessible\, pedestrian friendly\, paved trail located in Oak Hill\, WV! Adjacent to the New River Gorge National Park! Enjoy a Fun Filled Day for the Whole Family!</div>\n\n<div class="x14z9mp xat24cr x1lziwak x1vvkbs xtlvy1s" style="overflow-wrap: break-word\; margin-top: 0.5em\; margin-inline: 0px\; margin-bottom: 0px\; font-family: &quot\;Segoe UI Historic&quot\;\, &quot\;Segoe UI&quot\;\, Helvetica\, Arial\, sans-serif\; color: rgb(8\, 8\, 9)\; font-size: 15px\;">An email will been sent to last year&#39\;s vendors to be able to register! If you are a vendor from last year and don&#39\;t receive an email February 1st please message the page! Please do not post your email on the page in comments. There are alot of scammers out there!</div>\n\n<div class="x14z9mp xat24cr x1lziwak x1vvkbs xtlvy1s" style="overflow-wrap: break-word\; margin-top: 0.5em\; margin-inline: 0px\; margin-bottom: 0px\; font-family: &quot\;Segoe UI Historic&quot\;\, &quot\;Segoe UI&quot\;\, Helvetica\, Arial\, sans-serif\; color: rgb(8\, 8\, 9)\; font-size: 15px\;">Registration will be open to returning vendors on February 1st\, 2026! New vendor applications will be open March 1st\, 2026!</div>\n\n<div class="x14z9mp xat24cr x1lziwak x1vvkbs xtlvy1s" style="overflow-wrap: break-word\; margin-top: 0.5em\; margin-inline: 0px\; margin-bottom: 0px\; font-family: &quot\;Segoe UI Historic&quot\;\, &quot\;Segoe UI&quot\;\, Helvetica\, Arial\, sans-serif\; color: rgb(8\, 8\, 9)\; font-size: 15px\;">Please do not post your email address on the event page. Message the page with your email address if you don&#39\;t receive a returning vendor email.</div>\n\n<div class="x14z9mp xat24cr x1lziwak x1vvkbs xtlvy1s" style="overflow-wrap: break-word\; margin-top: 0.5em\; margin-inline: 0px\; margin-bottom: 0px\; font-family: &quot\;Segoe UI Historic&quot\;\, &quot\;Segoe UI&quot\;\, Helvetica\, Arial\, sans-serif\; color: rgb(8\, 8\, 9)\; font-size: 15px\;">Christa Hodges is the only event coordinator for the Rail Trail Expo.</div>\n
LOCATION:Oak Hill Rail Trail
UID:e.1703.15137
SEQUENCE:3
DTSTAMP:20260420T212737Z
URL:https://business.fayettecounty.com/events/details/15th-annual-white-oak-rail-trail-expo-15137
END:VEVENT

END:VCALENDAR
